BEGIN:VCALENDAR
VERSION:2.0
PRODID:-//New River Public Library Cooperative - ECPv6.15.20//NONSGML v1.0//EN
CALSCALE:GREGORIAN
METHOD:PUBLISH
X-ORIGINAL-URL:https://www.newriverlibrary.org
X-WR-CALDESC:Events for New River Public Library Cooperative
REFRESH-INTERVAL;VALUE=DURATION:PT1H
X-Robots-Tag:noindex
X-PUBLISHED-TTL:PT1H
BEGIN:VTIMEZONE
TZID:America/New_York
BEGIN:DAYLIGHT
TZOFFSETFROM:-0500
TZOFFSETTO:-0400
TZNAME:EDT
DTSTART:20240310T070000
END:DAYLIGHT
BEGIN:STANDARD
TZOFFSETFROM:-0400
TZOFFSETTO:-0500
TZNAME:EST
DTSTART:20241103T060000
END:STANDARD
BEGIN:DAYLIGHT
TZOFFSETFROM:-0500
TZOFFSETTO:-0400
TZNAME:EDT
DTSTART:20250309T070000
END:DAYLIGHT
BEGIN:STANDARD
TZOFFSETFROM:-0400
TZOFFSETTO:-0500
TZNAME:EST
DTSTART:20251102T060000
END:STANDARD
BEGIN:DAYLIGHT
TZOFFSETFROM:-0500
TZOFFSETTO:-0400
TZNAME:EDT
DTSTART:20260308T070000
END:DAYLIGHT
BEGIN:STANDARD
TZOFFSETFROM:-0400
TZOFFSETTO:-0500
TZNAME:EST
DTSTART:20261101T060000
END:STANDARD
BEGIN:DAYLIGHT
TZOFFSETFROM:-0500
TZOFFSETTO:-0400
TZNAME:EDT
DTSTART:20270314T070000
END:DAYLIGHT
BEGIN:STANDARD
TZOFFSETFROM:-0400
TZOFFSETTO:-0500
TZNAME:EST
DTSTART:20271107T060000
END:STANDARD
END:VTIMEZONE
BEGIN:VEVENT
DTSTART;TZID=America/New_York:20260320T110000
DTEND;TZID=America/New_York:20260320T120000
DTSTAMP:20260423T122924
CREATED:20260318T151759Z
LAST-MODIFIED:20260318T151759Z
UID:10000850-1774004400-1774008000@www.newriverlibrary.org
SUMMARY:Senior Craft
DESCRIPTION:Junk Journal \nRegistration is required.
URL:https://www.newriverlibrary.org/event/senior-craft-2/
LOCATION:Emily Taber\, 14 McIver Ave. West\, Macclenny\, Fl\, 32063
CATEGORIES:Emily Taber
END:VEVENT
BEGIN:VEVENT
DTSTART;TZID=America/New_York:20260226T103000
DTEND;TZID=America/New_York:20260226T110000
DTSTAMP:20260423T122924
CREATED:20260130T150028Z
LAST-MODIFIED:20260130T150028Z
UID:10000816-1772101800-1772103600@www.newriverlibrary.org
SUMMARY:Preschool Storytime
DESCRIPTION:Winter Storytime
URL:https://www.newriverlibrary.org/event/preschool-storytime-9/
LOCATION:Emily Taber\, 14 McIver Ave. West\, Macclenny\, Fl\, 32063
CATEGORIES:Emily Taber
END:VEVENT
BEGIN:VEVENT
DTSTART;TZID=America/New_York:20260219T160000
DTEND;TZID=America/New_York:20260219T170000
DTSTAMP:20260423T122924
CREATED:20260130T150109Z
LAST-MODIFIED:20260130T150109Z
UID:10000817-1771516800-1771520400@www.newriverlibrary.org
SUMMARY:Teen Craft
DESCRIPTION:
URL:https://www.newriverlibrary.org/event/teen-craft/
LOCATION:Emily Taber\, 14 McIver Ave. West\, Macclenny\, Fl\, 32063
CATEGORIES:Emily Taber
END:VEVENT
BEGIN:VEVENT
DTSTART;TZID=America/New_York:20260212T103000
DTEND;TZID=America/New_York:20260212T110000
DTSTAMP:20260423T122924
CREATED:20260130T145939Z
LAST-MODIFIED:20260130T145939Z
UID:10000815-1770892200-1770894000@www.newriverlibrary.org
SUMMARY:Preschool Storytime
DESCRIPTION:Valentine Storytime
URL:https://www.newriverlibrary.org/event/preschool-storytime-5/
LOCATION:Emily Taber\, 14 McIver Ave. West\, Macclenny\, Fl\, 32063
CATEGORIES:Emily Taber
END:VEVENT
BEGIN:VEVENT
DTSTART;TZID=America/New_York:20260206T110000
DTEND;TZID=America/New_York:20260206T120000
DTSTAMP:20260423T122924
CREATED:20260130T145823Z
LAST-MODIFIED:20260130T145823Z
UID:10000814-1770375600-1770379200@www.newriverlibrary.org
SUMMARY:Adult Book Club
DESCRIPTION:
URL:https://www.newriverlibrary.org/event/adult-book-club/
LOCATION:Emily Taber\, 14 McIver Ave. West\, Macclenny\, Fl\, 32063
CATEGORIES:Emily Taber
END:VEVENT
BEGIN:VEVENT
DTSTART;VALUE=DATE:20251231
DTEND;VALUE=DATE:20260102
DTSTAMP:20260423T122924
CREATED:20251210T173019Z
LAST-MODIFIED:20251210T173019Z
UID:10000773-1767139200-1767311999@www.newriverlibrary.org
SUMMARY:Emily Taber Library Holiday Closure
DESCRIPTION:
URL:https://www.newriverlibrary.org/event/emily-taber-library-holiday-closure-2/
LOCATION:Emily Taber\, 14 McIver Ave. West\, Macclenny\, Fl\, 32063
CATEGORIES:Emily Taber
ORGANIZER;CN="Emily Taber Public Library":MAILTO:etaber@neflin.org
END:VEVENT
BEGIN:VEVENT
DTSTART;VALUE=DATE:20251224
DTEND;VALUE=DATE:20251228
DTSTAMP:20260423T122924
CREATED:20251210T172958Z
LAST-MODIFIED:20251210T172958Z
UID:10000772-1766534400-1766879999@www.newriverlibrary.org
SUMMARY:Emily Taber Library Holiday Closure
DESCRIPTION:
URL:https://www.newriverlibrary.org/event/emily-taber-library-holiday-closure/
LOCATION:Emily Taber\, 14 McIver Ave. West\, Macclenny\, Fl\, 32063
CATEGORIES:Emily Taber
ORGANIZER;CN="Emily Taber Public Library":MAILTO:etaber@neflin.org
END:VEVENT
BEGIN:VEVENT
DTSTART;TZID=America/New_York:20251218T103000
DTEND;TZID=America/New_York:20251218T110000
DTSTAMP:20260423T122924
CREATED:20251120T170307Z
LAST-MODIFIED:20251120T170307Z
UID:10000707-1766053800-1766055600@www.newriverlibrary.org
SUMMARY:Preschool Storytime
DESCRIPTION:Emily Taber Public Library will have their Christmas Preschool Storytime on December 18th at 10:30 AM. We will read a Christmas story\, make reindeer food\, and take pictures with Santa!\n\n\nSpots are limited so be sure to stop by the library to sign-up before it fills up. Registration ends December 12th.
URL:https://www.newriverlibrary.org/event/preschool-storytime-4/
LOCATION:Emily Taber\, 14 McIver Ave. West\, Macclenny\, Fl\, 32063
CATEGORIES:Emily Taber
ATTACH;FMTTYPE=image/jpeg:https://www.newriverlibrary.org/wp-content/uploads/2023/05/2.jpg
ORGANIZER;CN="Emily Taber Public Library":MAILTO:etaber@neflin.org
END:VEVENT
BEGIN:VEVENT
DTSTART;TZID=America/New_York:20251023T103000
DTEND;TZID=America/New_York:20251023T110000
DTSTAMP:20260423T122924
CREATED:20250930T165403Z
LAST-MODIFIED:20250930T165403Z
UID:10000656-1761215400-1761217200@www.newriverlibrary.org
SUMMARY:Pre-School Storytime
DESCRIPTION:Our Halloween Storytime will begin at 10:30 AM
URL:https://www.newriverlibrary.org/event/pre-school-storytime-5/
LOCATION:Emily Taber\, 14 McIver Ave. West\, Macclenny\, Fl\, 32063
CATEGORIES:Emily Taber
ATTACH;FMTTYPE=image/jpeg:https://www.newriverlibrary.org/wp-content/uploads/2023/05/2.jpg
ORGANIZER;CN="Emily Taber Public Library":MAILTO:etaber@neflin.org
END:VEVENT
END:VCALENDAR