BEGIN:VCALENDAR
VERSION:2.0
PRODID:-//New River Public Library Cooperative - ECPv6.15.20//NONSGML v1.0//EN
CALSCALE:GREGORIAN
METHOD:PUBLISH
X-ORIGINAL-URL:https://www.newriverlibrary.org
X-WR-CALDESC:Events for New River Public Library Cooperative
REFRESH-INTERVAL;VALUE=DURATION:PT1H
X-Robots-Tag:noindex
X-PUBLISHED-TTL:PT1H
BEGIN:VTIMEZONE
TZID:America/New_York
BEGIN:DAYLIGHT
TZOFFSETFROM:-0500
TZOFFSETTO:-0400
TZNAME:EDT
DTSTART:20240310T070000
END:DAYLIGHT
BEGIN:STANDARD
TZOFFSETFROM:-0400
TZOFFSETTO:-0500
TZNAME:EST
DTSTART:20241103T060000
END:STANDARD
BEGIN:DAYLIGHT
TZOFFSETFROM:-0500
TZOFFSETTO:-0400
TZNAME:EDT
DTSTART:20250309T070000
END:DAYLIGHT
BEGIN:STANDARD
TZOFFSETFROM:-0400
TZOFFSETTO:-0500
TZNAME:EST
DTSTART:20251102T060000
END:STANDARD
BEGIN:DAYLIGHT
TZOFFSETFROM:-0500
TZOFFSETTO:-0400
TZNAME:EDT
DTSTART:20260308T070000
END:DAYLIGHT
BEGIN:STANDARD
TZOFFSETFROM:-0400
TZOFFSETTO:-0500
TZNAME:EST
DTSTART:20261101T060000
END:STANDARD
END:VTIMEZONE
BEGIN:VEVENT
DTSTART;TZID=America/New_York:20251218T113000
DTEND;TZID=America/New_York:20251218T130000
DTSTAMP:20260424T042511
CREATED:20251031T143830Z
LAST-MODIFIED:20251031T143830Z
UID:10000705-1766057400-1766062800@www.newriverlibrary.org
SUMMARY:Books & Brunch
DESCRIPTION:Small Things Like These \nMeet at iHOP to discuss. \nBring $ to order from the menu. Gift change optional ($15 value)
URL:https://www.newriverlibrary.org/event/books-brunch-3/
LOCATION:Bradford County\, 456 W Pratt St\, Starke\, FL\, United States
CATEGORIES:Adults,Bradford County
END:VEVENT
BEGIN:VEVENT
DTSTART;TZID=America/New_York:20251218T110000
DTEND;TZID=America/New_York:20251218T120000
DTSTAMP:20260424T042511
CREATED:20251204T152007Z
LAST-MODIFIED:20251204T152007Z
UID:10000734-1766055600-1766059200@www.newriverlibrary.org
SUMMARY:Homeschool Program
DESCRIPTION:Pour painting ornaments \nAges 0-12
URL:https://www.newriverlibrary.org/event/homeschool-program-4/
LOCATION:Bradford County\, 456 W Pratt St\, Starke\, FL\, United States
CATEGORIES:Bradford County,Kids
END:VEVENT
BEGIN:VEVENT
DTSTART;TZID=America/New_York:20251217T110000
DTEND;TZID=America/New_York:20251217T120000
DTSTAMP:20260424T042511
CREATED:20251204T151856Z
LAST-MODIFIED:20251204T151856Z
UID:10000733-1765969200-1765972800@www.newriverlibrary.org
SUMMARY:Hurricane Disaster Recovery
DESCRIPTION:Presented by Meridian \nLearn how you can get help with roof replacements\, tree removal\, and more. Light refreshments provided.
URL:https://www.newriverlibrary.org/event/hurricane-disaster-recovery/
LOCATION:Bradford County\, 456 W Pratt St\, Starke\, FL\, United States
CATEGORIES:Adults,Bradford County
END:VEVENT
BEGIN:VEVENT
DTSTART;TZID=America/New_York:20251217T100000
DTEND;TZID=America/New_York:20251217T103000
DTSTAMP:20260424T042511
CREATED:20251204T151757Z
LAST-MODIFIED:20251204T151757Z
UID:10000732-1765965600-1765967400@www.newriverlibrary.org
SUMMARY:Storytime
DESCRIPTION:With Melanie. \nWear your Christmas PJs! Night Before Christmas & holiday party. \nAges 0-5
URL:https://www.newriverlibrary.org/event/storytime-2/
LOCATION:Bradford County\, 456 W Pratt St\, Starke\, FL\, United States
CATEGORIES:Bradford County,Kids
END:VEVENT
BEGIN:VEVENT
DTSTART;TZID=America/New_York:20251216T173000
DTEND;TZID=America/New_York:20251216T193000
DTSTAMP:20260424T042511
CREATED:20251204T151540Z
LAST-MODIFIED:20251204T151540Z
UID:10000730-1765906200-1765913400@www.newriverlibrary.org
SUMMARY:Crochet Meetup
DESCRIPTION:Meeting at The Downtown Grill Banquet Room\nBring $ to order something from the menu.
URL:https://www.newriverlibrary.org/event/crochet-meetup-2/
LOCATION:Bradford County\, 456 W Pratt St\, Starke\, FL\, United States
CATEGORIES:Adults,Bradford County,Teens
END:VEVENT
BEGIN:VEVENT
DTSTART;TZID=America/New_York:20251216T173000
DTEND;TZID=America/New_York:20251216T190000
DTSTAMP:20260424T042511
CREATED:20251031T143830Z
LAST-MODIFIED:20251031T143830Z
UID:10000704-1765906200-1765911600@www.newriverlibrary.org
SUMMARY:Crochet Meetup
DESCRIPTION:Meeting at The Downtown Grill Banquet Room \nFor Adults and Teens
URL:https://www.newriverlibrary.org/event/crochet-meetup/
LOCATION:Bradford County\, 456 W Pratt St\, Starke\, FL\, United States
CATEGORIES:Adults,Bradford County,Teens
END:VEVENT
BEGIN:VEVENT
DTSTART;TZID=America/New_York:20251216T110000
DTEND;TZID=America/New_York:20251216T180000
DTSTAMP:20260424T042511
CREATED:20251204T151644Z
LAST-MODIFIED:20251204T151644Z
UID:10000731-1765882800-1765908000@www.newriverlibrary.org
SUMMARY:Holiday Fostering Program ~ Read to Shelter Animals
DESCRIPTION:Give a shelter animal a home for the holidays.\nBradford County Animal Services will be here with pets who need a home.
URL:https://www.newriverlibrary.org/event/holiday-fostering-program-read-to-shelter-animals/
LOCATION:Bradford County\, 456 W Pratt St\, Starke\, FL\, United States
CATEGORIES:All Ages,Bradford County
END:VEVENT
BEGIN:VEVENT
DTSTART;TZID=America/New_York:20251212T140000
DTEND;TZID=America/New_York:20251212T160000
DTSTAMP:20260424T042511
CREATED:20251204T151445Z
LAST-MODIFIED:20251204T151445Z
UID:10000729-1765548000-1765555200@www.newriverlibrary.org
SUMMARY:Holiday Bingo
DESCRIPTION:Play to win prizes for all ages
URL:https://www.newriverlibrary.org/event/holiday-bingo/
LOCATION:Bradford County\, 456 W Pratt St\, Starke\, FL\, United States
CATEGORIES:All Ages,Bradford County
END:VEVENT
BEGIN:VEVENT
DTSTART;TZID=America/New_York:20251212T140000
DTEND;TZID=America/New_York:20251212T150000
DTSTAMP:20260424T042511
CREATED:20251031T143830Z
LAST-MODIFIED:20251031T143830Z
UID:10000703-1765548000-1765551600@www.newriverlibrary.org
SUMMARY:Holiday Book Bingo
DESCRIPTION:with Kathy
URL:https://www.newriverlibrary.org/event/holiday-book-bingo/
LOCATION:Bradford County\, 456 W Pratt St\, Starke\, FL\, United States
CATEGORIES:All Ages,Bradford County
END:VEVENT
BEGIN:VEVENT
DTSTART;TZID=America/New_York:20251212T090000
DTEND;TZID=America/New_York:20251212T100000
DTSTAMP:20260424T042511
CREATED:20251204T151346Z
LAST-MODIFIED:20251204T151346Z
UID:10000728-1765530000-1765533600@www.newriverlibrary.org
SUMMARY:ESE ~ Christmas Craft
DESCRIPTION:
URL:https://www.newriverlibrary.org/event/ese-christmas-craft/
LOCATION:Bradford County\, 456 W Pratt St\, Starke\, FL\, United States
CATEGORIES:Bradford County
END:VEVENT
BEGIN:VEVENT
DTSTART;TZID=America/New_York:20251211T160000
DTEND;TZID=America/New_York:20251211T174500
DTSTAMP:20260424T042511
CREATED:20251204T151306Z
LAST-MODIFIED:20251204T151306Z
UID:10000727-1765468800-1765475100@www.newriverlibrary.org
SUMMARY:Dungeons & Dragons Meetup
DESCRIPTION:
URL:https://www.newriverlibrary.org/event/dungeons-dragons-meetup-3/
LOCATION:Bradford County\, 456 W Pratt St\, Starke\, FL\, United States
CATEGORIES:Adults,Bradford County,Teens
END:VEVENT
BEGIN:VEVENT
DTSTART;TZID=America/New_York:20251211T160000
DTEND;TZID=America/New_York:20251211T174500
DTSTAMP:20260424T042511
CREATED:20251031T143830Z
LAST-MODIFIED:20251031T143830Z
UID:10000702-1765468800-1765475100@www.newriverlibrary.org
SUMMARY:Dungeons & Dragons Meetup
DESCRIPTION:For adults and teens
URL:https://www.newriverlibrary.org/event/dungeons-dragons-meetup/
LOCATION:Bradford County\, 456 W Pratt St\, Starke\, FL\, United States
CATEGORIES:Adults,Bradford County,Teens
END:VEVENT
BEGIN:VEVENT
DTSTART;TZID=America/New_York:20251210T110000
DTEND;TZID=America/New_York:20251210T120000
DTSTAMP:20260424T042511
CREATED:20251204T151212Z
LAST-MODIFIED:20251204T151212Z
UID:10000726-1765364400-1765368000@www.newriverlibrary.org
SUMMARY:Homeschool Program - Craft and Hot Cocoa
DESCRIPTION:We’re painting a cute plaster snowman that stands on tabletops\, dressers\, mantels\, and more. Create the perfect cup of cocoa at our hot cocoa bar while your snowman dries. \nChildren and teens ages 3-17.
URL:https://www.newriverlibrary.org/event/homeschool-program-craft-and-hot-cocoa/
LOCATION:Bradford County\, 456 W Pratt St\, Starke\, FL\, United States
CATEGORIES:Bradford County,Kids,Teens
END:VEVENT
BEGIN:VEVENT
DTSTART;TZID=America/New_York:20251210T110000
DTEND;TZID=America/New_York:20251210T120000
DTSTAMP:20260424T042511
CREATED:20251031T143830Z
LAST-MODIFIED:20251031T143830Z
UID:10000701-1765364400-1765368000@www.newriverlibrary.org
SUMMARY:Homeschool Program
DESCRIPTION:Snowman program with Kathy & Amy \nAges 4-17
URL:https://www.newriverlibrary.org/event/homeschool-program/
LOCATION:Bradford County\, 456 W Pratt St\, Starke\, FL\, United States
CATEGORIES:Bradford County,Kids,Teens
END:VEVENT
BEGIN:VEVENT
DTSTART;TZID=America/New_York:20251210T100000
DTEND;TZID=America/New_York:20251210T103000
DTSTAMP:20260424T042511
CREATED:20251204T151032Z
LAST-MODIFIED:20251204T151032Z
UID:10000725-1765360800-1765362600@www.newriverlibrary.org
SUMMARY:Storytime
DESCRIPTION:Tree decor craft \nAges 3-5
URL:https://www.newriverlibrary.org/event/storytime/
LOCATION:Bradford County\, 456 W Pratt St\, Starke\, FL\, United States
CATEGORIES:Bradford County,Kids
END:VEVENT
BEGIN:VEVENT
DTSTART;TZID=America/New_York:20251209T150000
DTEND;TZID=America/New_York:20251209T173000
DTSTAMP:20260424T042511
CREATED:20251204T150932Z
LAST-MODIFIED:20251204T150932Z
UID:10000724-1765292400-1765301400@www.newriverlibrary.org
SUMMARY:Afterschool Craft
DESCRIPTION:Christmas Ornament \nAges 5-12 \n  \n 
URL:https://www.newriverlibrary.org/event/afterschool-craft/
LOCATION:Bradford County\, 456 W Pratt St\, Starke\, FL\, United States
CATEGORIES:Bradford County,Kids
END:VEVENT
BEGIN:VEVENT
DTSTART;TZID=America/New_York:20251209T101500
DTEND;TZID=America/New_York:20251209T104500
DTSTAMP:20260424T042511
CREATED:20251204T150818Z
LAST-MODIFIED:20251204T150825Z
UID:10000723-1765275300-1765277100@www.newriverlibrary.org
SUMMARY:Toddler Time
DESCRIPTION:Night Before Christmas Program ~ Ornament craft for tree \nChildren ages 0-2
URL:https://www.newriverlibrary.org/event/toddler-time/
LOCATION:Bradford County\, 456 W Pratt St\, Starke\, FL\, United States
CATEGORIES:Bradford County,Kids
END:VEVENT
BEGIN:VEVENT
DTSTART;VALUE=DATE:20251205
DTEND;VALUE=DATE:20251206
DTSTAMP:20260424T042511
CREATED:20251204T150645Z
LAST-MODIFIED:20251204T150645Z
UID:10000722-1764892800-1764979199@www.newriverlibrary.org
SUMMARY:BMS Outreach Program
DESCRIPTION:Offsite with Kathy and Amy
URL:https://www.newriverlibrary.org/event/bms-outreach-program-2/
LOCATION:Bradford County\, 456 W Pratt St\, Starke\, FL\, United States
CATEGORIES:Bradford County
END:VEVENT
BEGIN:VEVENT
DTSTART;VALUE=DATE:20251205
DTEND;VALUE=DATE:20251206
DTSTAMP:20260424T042511
CREATED:20251031T143830Z
LAST-MODIFIED:20251031T143830Z
UID:10000700-1764892800-1764979199@www.newriverlibrary.org
SUMMARY:BMS Outreach Program
DESCRIPTION:For BMS students \nOffsite with Kathy & Amy
URL:https://www.newriverlibrary.org/event/bms-outreach-program/
LOCATION:Bradford County\, 456 W Pratt St\, Starke\, FL\, United States
CATEGORIES:Bradford County
END:VEVENT
BEGIN:VEVENT
DTSTART;TZID=America/New_York:20251204T160000
DTEND;TZID=America/New_York:20251204T170000
DTSTAMP:20260424T042511
CREATED:20251204T150553Z
LAST-MODIFIED:20251204T150553Z
UID:10000721-1764864000-1764867600@www.newriverlibrary.org
SUMMARY:Mystery Book Club
DESCRIPTION:Discuss The Intruder by Freida McFadden at the library & starting a new book that we select on Hoopla.
URL:https://www.newriverlibrary.org/event/mystery-book-club/
LOCATION:Bradford County\, 456 W Pratt St\, Starke\, FL\, United States
CATEGORIES:Adults,Bradford County
END:VEVENT
BEGIN:VEVENT
DTSTART;TZID=America/New_York:20251203T153000
DTEND;TZID=America/New_York:20251203T163000
DTSTAMP:20260424T042511
CREATED:20251031T143830Z
LAST-MODIFIED:20251031T143830Z
UID:10000699-1764775800-1764779400@www.newriverlibrary.org
SUMMARY:Book Builders ~ A Creative Club for Kids
DESCRIPTION:A Club for Creative Kids ages 7-12. \nMonthly meetup for young writers & artists. \nFor more info.\, contact Kathy at (904) 368-3921
URL:https://www.newriverlibrary.org/event/book-builders-a-creative-club-for-kids/
LOCATION:Bradford County\, 456 W Pratt St\, Starke\, FL\, United States
CATEGORIES:Bradford County,Kids
END:VEVENT
BEGIN:VEVENT
DTSTART;TZID=America/New_York:20251202T173000
DTEND;TZID=America/New_York:20251202T193000
DTSTAMP:20260424T042511
CREATED:20251031T143830Z
LAST-MODIFIED:20251031T143830Z
UID:10000698-1764696600-1764703800@www.newriverlibrary.org
SUMMARY:Community Christmas Trunk & Treat with Santa
DESCRIPTION:Games\, treats\, prizes\, & photo opportunities with Santa \nFree event for family and friends
URL:https://www.newriverlibrary.org/event/community-christmas-trunk-treat-with-santa/
LOCATION:Bradford County\, 456 W Pratt St\, Starke\, FL\, United States
CATEGORIES:All Ages,Bradford County
END:VEVENT
BEGIN:VEVENT
DTSTART;TZID=America/New_York:20251125T153000
DTEND;TZID=America/New_York:20251125T163000
DTSTAMP:20260424T042511
CREATED:20251031T143830Z
LAST-MODIFIED:20251031T143830Z
UID:10000697-1764084600-1764088200@www.newriverlibrary.org
SUMMARY:Children's Department Book Bingo
DESCRIPTION:Ages 0-12
URL:https://www.newriverlibrary.org/event/childrens-department-book-bingo/
LOCATION:Bradford County\, 456 W Pratt St\, Starke\, FL\, United States
CATEGORIES:Bradford County,Kids
END:VEVENT
BEGIN:VEVENT
DTSTART;TZID=America/New_York:20251121T110000
DTEND;TZID=America/New_York:20251121T123000
DTSTAMP:20260424T042511
CREATED:20251031T143831Z
LAST-MODIFIED:20251031T143831Z
UID:10000696-1763722800-1763728200@www.newriverlibrary.org
SUMMARY:Friendsgiving
DESCRIPTION:A holiday social at The Downtown Grill \nfor Adults & Families
URL:https://www.newriverlibrary.org/event/friendsgiving/
LOCATION:Bradford County\, 456 W Pratt St\, Starke\, FL\, United States
CATEGORIES:Bradford County
END:VEVENT
BEGIN:VEVENT
DTSTART;TZID=America/New_York:20251120T160000
DTEND;TZID=America/New_York:20251120T171500
DTSTAMP:20260424T042511
CREATED:20251031T143831Z
LAST-MODIFIED:20251031T143831Z
UID:10000695-1763654400-1763658900@www.newriverlibrary.org
SUMMARY:VOLT ~ Voices of Library Teens
DESCRIPTION:Voices of Library Teens with Amy. \nDiscuss upcoming fundraisers and the Christmas Trunk or Treat
URL:https://www.newriverlibrary.org/event/volt-voices-of-library-teens-2/
LOCATION:Bradford County\, 456 W Pratt St\, Starke\, FL\, United States
CATEGORIES:Bradford County,Teens
END:VEVENT
BEGIN:VEVENT
DTSTART;TZID=America/New_York:20251120T113000
DTEND;TZID=America/New_York:20251120T130000
DTSTAMP:20260424T042511
CREATED:20251031T143831Z
LAST-MODIFIED:20251031T143831Z
UID:10000694-1763638200-1763643600@www.newriverlibrary.org
SUMMARY:Books & Brunch
DESCRIPTION:Read God in the Woods by Liz Moore and meet at Sonny’s BBQ to discuss. \nBring $ to order from the menu.
URL:https://www.newriverlibrary.org/event/books-brunch-4/
LOCATION:Bradford County\, 456 W Pratt St\, Starke\, FL\, United States
CATEGORIES:Adults,Bradford County
END:VEVENT
BEGIN:VEVENT
DTSTART;TZID=America/New_York:20251120T110000
DTEND;TZID=America/New_York:20251120T120000
DTSTAMP:20260424T042511
CREATED:20251031T143831Z
LAST-MODIFIED:20251031T143831Z
UID:10000693-1763636400-1763640000@www.newriverlibrary.org
SUMMARY:Homeschool Program
DESCRIPTION:Fall Craft with Melanie \nAges 4-17
URL:https://www.newriverlibrary.org/event/homeschool-program-2/
LOCATION:Bradford County\, 456 W Pratt St\, Starke\, FL\, United States
CATEGORIES:Bradford County,Kids,Teens
END:VEVENT
BEGIN:VEVENT
DTSTART;TZID=America/New_York:20251119T100000
DTEND;TZID=America/New_York:20251119T103000
DTSTAMP:20260424T042511
CREATED:20251031T143831Z
LAST-MODIFIED:20251031T143831Z
UID:10000692-1763546400-1763548200@www.newriverlibrary.org
SUMMARY:Storytime with Melanie
DESCRIPTION:Ages 3-5
URL:https://www.newriverlibrary.org/event/storytime-with-melanie/
LOCATION:Bradford County\, 456 W Pratt St\, Starke\, FL\, United States
CATEGORIES:Bradford County,Kids
END:VEVENT
BEGIN:VEVENT
DTSTART;TZID=America/New_York:20251118T173000
DTEND;TZID=America/New_York:20251118T183000
DTSTAMP:20260424T042511
CREATED:20251031T143831Z
LAST-MODIFIED:20251031T143831Z
UID:10000691-1763487000-1763490600@www.newriverlibrary.org
SUMMARY:Hook & Gather
DESCRIPTION:Crochet meetup for all skill levels.
URL:https://www.newriverlibrary.org/event/hook-gather/
LOCATION:Bradford County\, 456 W Pratt St\, Starke\, FL\, United States
CATEGORIES:Adults,Bradford County,Teens
END:VEVENT
BEGIN:VEVENT
DTSTART;TZID=America/New_York:20251118T101500
DTEND;TZID=America/New_York:20251118T104500
DTSTAMP:20260424T042511
CREATED:20251031T143831Z
LAST-MODIFIED:20251031T143831Z
UID:10000690-1763460900-1763462700@www.newriverlibrary.org
SUMMARY:Toddler Time with Melanie
DESCRIPTION:Ages 0-2
URL:https://www.newriverlibrary.org/event/toddler-time-with-melanie/
LOCATION:Bradford County\, 456 W Pratt St\, Starke\, FL\, United States
CATEGORIES:Bradford County,Kids
END:VEVENT
END:VCALENDAR