BEGIN:VCALENDAR
VERSION:2.0
PRODID:-//New River Public Library Cooperative - ECPv6.15.20//NONSGML v1.0//EN
CALSCALE:GREGORIAN
METHOD:PUBLISH
X-ORIGINAL-URL:https://www.newriverlibrary.org
X-WR-CALDESC:Events for New River Public Library Cooperative
REFRESH-INTERVAL;VALUE=DURATION:PT1H
X-Robots-Tag:noindex
X-PUBLISHED-TTL:PT1H
BEGIN:VTIMEZONE
TZID:America/New_York
BEGIN:DAYLIGHT
TZOFFSETFROM:-0500
TZOFFSETTO:-0400
TZNAME:EDT
DTSTART:20240310T070000
END:DAYLIGHT
BEGIN:STANDARD
TZOFFSETFROM:-0400
TZOFFSETTO:-0500
TZNAME:EST
DTSTART:20241103T060000
END:STANDARD
BEGIN:DAYLIGHT
TZOFFSETFROM:-0500
TZOFFSETTO:-0400
TZNAME:EDT
DTSTART:20250309T070000
END:DAYLIGHT
BEGIN:STANDARD
TZOFFSETFROM:-0400
TZOFFSETTO:-0500
TZNAME:EST
DTSTART:20251102T060000
END:STANDARD
BEGIN:DAYLIGHT
TZOFFSETFROM:-0500
TZOFFSETTO:-0400
TZNAME:EDT
DTSTART:20260308T070000
END:DAYLIGHT
BEGIN:STANDARD
TZOFFSETFROM:-0400
TZOFFSETTO:-0500
TZNAME:EST
DTSTART:20261101T060000
END:STANDARD
END:VTIMEZONE
BEGIN:VEVENT
DTSTART;TZID=America/New_York:20251115T130000
DTEND;TZID=America/New_York:20251115T140000
DTSTAMP:20260424T084313
CREATED:20251031T143831Z
LAST-MODIFIED:20251031T143831Z
UID:10000689-1763211600-1763215200@www.newriverlibrary.org
SUMMARY:Meet the Author
DESCRIPTION:Terrance Davis\, author of Zara and the Time Traveling Library.
URL:https://www.newriverlibrary.org/event/meet-the-author/
LOCATION:Bradford County\, 456 W Pratt St\, Starke\, FL\, United States
CATEGORIES:All Ages,Bradford County
END:VEVENT
BEGIN:VEVENT
DTSTART;TZID=America/New_York:20251114T153000
DTEND;TZID=America/New_York:20251114T163000
DTSTAMP:20260424T084313
CREATED:20251031T143831Z
LAST-MODIFIED:20251031T143831Z
UID:10000688-1763134200-1763137800@www.newriverlibrary.org
SUMMARY:Cell Phone Workshop with Total Wireless
DESCRIPTION:Helpful “how-to-do’s” & what to look for when buying a phone. \nFor Adults and Teens
URL:https://www.newriverlibrary.org/event/cell-phone-workshop-with-total-wireless/
LOCATION:Bradford County\, 456 W Pratt St\, Starke\, FL\, United States
CATEGORIES:Adults,Bradford County,Teens
END:VEVENT
BEGIN:VEVENT
DTSTART;TZID=America/New_York:20251114T090000
DTEND;TZID=America/New_York:20251114T100000
DTSTAMP:20260424T084313
CREATED:20251031T143831Z
LAST-MODIFIED:20251031T143831Z
UID:10000687-1763110800-1763114400@www.newriverlibrary.org
SUMMARY:ESE with Melanie
DESCRIPTION:
URL:https://www.newriverlibrary.org/event/ese-with-melanie/
LOCATION:Bradford County\, 456 W Pratt St\, Starke\, FL\, United States
CATEGORIES:Bradford County
END:VEVENT
BEGIN:VEVENT
DTSTART;TZID=America/New_York:20251113T160000
DTEND;TZID=America/New_York:20251113T174500
DTSTAMP:20260424T084313
CREATED:20251031T143847Z
LAST-MODIFIED:20251031T143847Z
UID:10000686-1763049600-1763055900@www.newriverlibrary.org
SUMMARY:Dungeons & Dragons Meetup
DESCRIPTION:For Adults and Teens
URL:https://www.newriverlibrary.org/event/dungeons-dragons-meetup-2/
LOCATION:Bradford County\, 456 W Pratt St\, Starke\, FL\, United States
CATEGORIES:Adults,Bradford County,Teens
END:VEVENT
BEGIN:VEVENT
DTSTART;TZID=America/New_York:20251112T110000
DTEND;TZID=America/New_York:20251112T120000
DTSTAMP:20260424T084313
CREATED:20251031T143847Z
LAST-MODIFIED:20251031T143847Z
UID:10000685-1762945200-1762948800@www.newriverlibrary.org
SUMMARY:Homeschool Program
DESCRIPTION:Fall Photo Frame with Kathy and Amy \nAges 4-17
URL:https://www.newriverlibrary.org/event/homeschool-program-3/
LOCATION:Bradford County\, 456 W Pratt St\, Starke\, FL\, United States
CATEGORIES:Bradford County,Kids,Teens
END:VEVENT
BEGIN:VEVENT
DTSTART;TZID=America/New_York:20251112T100000
DTEND;TZID=America/New_York:20251112T103000
DTSTAMP:20260424T084313
CREATED:20251031T143847Z
LAST-MODIFIED:20251031T143847Z
UID:10000684-1762941600-1762943400@www.newriverlibrary.org
SUMMARY:Storytime with Melanie
DESCRIPTION:Ages 3-5
URL:https://www.newriverlibrary.org/event/storytime-with-melanie-2/
LOCATION:Bradford County\, 456 W Pratt St\, Starke\, FL\, United States
CATEGORIES:Bradford County,Kids
END:VEVENT
BEGIN:VEVENT
DTSTART;VALUE=DATE:20251111
DTEND;VALUE=DATE:20251112
DTSTAMP:20260424T084313
CREATED:20251031T143848Z
LAST-MODIFIED:20251031T143848Z
UID:10000683-1762819200-1762905599@www.newriverlibrary.org
SUMMARY:Closed for Veteran's Day
DESCRIPTION:
URL:https://www.newriverlibrary.org/event/closed-for-veterans-day/
LOCATION:Bradford County\, 456 W Pratt St\, Starke\, FL\, United States
CATEGORIES:Bradford County
END:VEVENT
BEGIN:VEVENT
DTSTART;TZID=America/New_York:20251106T130000
DTEND;TZID=America/New_York:20251106T174500
DTSTAMP:20260424T084313
CREATED:20251031T143848Z
LAST-MODIFIED:20251031T143848Z
UID:10000682-1762434000-1762451100@www.newriverlibrary.org
SUMMARY:Craft - Christmas Earrings
DESCRIPTION:With Amy & Kathy. \nSign up for 1:00 – 3:00 PM or 4:00 – 5:45 PM \nFor Tweens\, Teens\, and Adults
URL:https://www.newriverlibrary.org/event/craft-christmas-earrings/
LOCATION:Bradford County\, 456 W Pratt St\, Starke\, FL\, United States
CATEGORIES:Adults,Bradford County,Teens
END:VEVENT
BEGIN:VEVENT
DTSTART;TZID=America/New_York:20251105T153000
DTEND;TZID=America/New_York:20251105T163000
DTSTAMP:20260424T084313
CREATED:20251031T143848Z
LAST-MODIFIED:20251031T143848Z
UID:10000681-1762356600-1762360200@www.newriverlibrary.org
SUMMARY:Book Builders ~ A  Club for Creative Kids
DESCRIPTION:Projects for young storytellers & artists ages 7-12. \nFor more info.\, contact Kathy at (904) 368-3921.
URL:https://www.newriverlibrary.org/event/book-builders-a-club-for-creative-kids/
LOCATION:Bradford County\, 456 W Pratt St\, Starke\, FL\, United States
CATEGORIES:Bradford County,Kids
END:VEVENT
BEGIN:VEVENT
DTSTART;TZID=America/New_York:20251105T133000
DTEND;TZID=America/New_York:20251105T150000
DTSTAMP:20260424T084313
CREATED:20251031T143848Z
LAST-MODIFIED:20251031T143848Z
UID:10000680-1762349400-1762354800@www.newriverlibrary.org
SUMMARY:Crafts - Christmas Earrings
DESCRIPTION:Christmas Earrings with Amy & Kathy. \nFor Tween\, Teens\, and Adults \nSign up for 1:30-3:00 PM
URL:https://www.newriverlibrary.org/event/crafts-christmas-earrings/
LOCATION:Bradford County\, 456 W Pratt St\, Starke\, FL\, United States
CATEGORIES:Adults,Bradford County,Teens
END:VEVENT
BEGIN:VEVENT
DTSTART;TZID=America/New_York:20251105T100000
DTEND;TZID=America/New_York:20251105T103000
DTSTAMP:20260424T084313
CREATED:20251031T143848Z
LAST-MODIFIED:20251031T143848Z
UID:10000679-1762336800-1762338600@www.newriverlibrary.org
SUMMARY:Storytime with Melanie
DESCRIPTION:Ages 3-5
URL:https://www.newriverlibrary.org/event/storytime-with-melanie-3/
LOCATION:Bradford County\, 456 W Pratt St\, Starke\, FL\, United States
CATEGORIES:Bradford County,Kids
END:VEVENT
BEGIN:VEVENT
DTSTART;TZID=America/New_York:20251104T173000
DTEND;TZID=America/New_York:20251104T183000
DTSTAMP:20260424T084313
CREATED:20251031T143848Z
LAST-MODIFIED:20251031T143848Z
UID:10000678-1762277400-1762281000@www.newriverlibrary.org
SUMMARY:Self-Publishing Workshop
DESCRIPTION:With author AJ Craft
URL:https://www.newriverlibrary.org/event/self-publishing-workshop/
LOCATION:Bradford County\, 456 W Pratt St\, Starke\, FL\, United States
CATEGORIES:Adults,Bradford County,Teens
END:VEVENT
BEGIN:VEVENT
DTSTART;TZID=America/New_York:20251104T160000
DTEND;TZID=America/New_York:20251104T170000
DTSTAMP:20260424T084313
CREATED:20251031T143848Z
LAST-MODIFIED:20251031T143848Z
UID:10000677-1762272000-1762275600@www.newriverlibrary.org
SUMMARY:Meet the Author
DESCRIPTION:JImmy Deas\, author of A Teacher’s Gift\, Just a Dog\, Mama Said\, and Let Me Tell You a Story.
URL:https://www.newriverlibrary.org/event/meet-the-author-2/
LOCATION:Bradford County\, 456 W Pratt St\, Starke\, FL\, United States
CATEGORIES:Adults,Bradford County
END:VEVENT
BEGIN:VEVENT
DTSTART;TZID=America/New_York:20251104T101500
DTEND;TZID=America/New_York:20251104T104500
DTSTAMP:20260424T084314
CREATED:20251031T143848Z
LAST-MODIFIED:20251031T143848Z
UID:10000676-1762251300-1762253100@www.newriverlibrary.org
SUMMARY:Toddler Time with Melanie
DESCRIPTION:Ages 0-2
URL:https://www.newriverlibrary.org/event/toddler-time-with-melanie-2/
LOCATION:Bradford County\, 456 W Pratt St\, Starke\, FL\, United States
CATEGORIES:Bradford County,Kids
END:VEVENT
END:VCALENDAR