BEGIN:VCALENDAR
VERSION:2.0
PRODID:-//New River Public Library Cooperative - ECPv6.15.20//NONSGML v1.0//EN
CALSCALE:GREGORIAN
METHOD:PUBLISH
X-WR-CALNAME:New River Public Library Cooperative
X-ORIGINAL-URL:https://www.newriverlibrary.org
X-WR-CALDESC:Events for New River Public Library Cooperative
REFRESH-INTERVAL;VALUE=DURATION:PT1H
X-Robots-Tag:noindex
X-PUBLISHED-TTL:PT1H
BEGIN:VTIMEZONE
TZID:America/New_York
BEGIN:DAYLIGHT
TZOFFSETFROM:-0500
TZOFFSETTO:-0400
TZNAME:EDT
DTSTART:20240310T070000
END:DAYLIGHT
BEGIN:STANDARD
TZOFFSETFROM:-0400
TZOFFSETTO:-0500
TZNAME:EST
DTSTART:20241103T060000
END:STANDARD
BEGIN:DAYLIGHT
TZOFFSETFROM:-0500
TZOFFSETTO:-0400
TZNAME:EDT
DTSTART:20250309T070000
END:DAYLIGHT
BEGIN:STANDARD
TZOFFSETFROM:-0400
TZOFFSETTO:-0500
TZNAME:EST
DTSTART:20251102T060000
END:STANDARD
BEGIN:DAYLIGHT
TZOFFSETFROM:-0500
TZOFFSETTO:-0400
TZNAME:EDT
DTSTART:20260308T070000
END:DAYLIGHT
BEGIN:STANDARD
TZOFFSETFROM:-0400
TZOFFSETTO:-0500
TZNAME:EST
DTSTART:20261101T060000
END:STANDARD
END:VTIMEZONE
BEGIN:VEVENT
DTSTART;TZID=America/New_York:20251218T150000
DTEND;TZID=America/New_York:20251218T170000
DTSTAMP:20260423T201314
CREATED:20251204T150138Z
LAST-MODIFIED:20251204T150138Z
UID:10000717-1766070000-1766077200@www.newriverlibrary.org
SUMMARY:The Grinch Visits the Library
DESCRIPTION:
URL:https://www.newriverlibrary.org/event/the-grinch-visits-the-library/
LOCATION:Mary C. Brown Public Library\, 250 SE 5th Avenue\, Lake Butler\, FL\, 32054\, United States
CATEGORIES:Mary C. Brown
END:VEVENT
BEGIN:VEVENT
DTSTART;TZID=America/New_York:20251217T080000
DTEND;TZID=America/New_York:20251217T090000
DTSTAMP:20260423T201314
CREATED:20251215T144704Z
LAST-MODIFIED:20251215T144704Z
UID:10000776-1765958400-1765962000@www.newriverlibrary.org
SUMMARY:JFOL Meeting
DESCRIPTION:UCHS
URL:https://www.newriverlibrary.org/event/jfol-meeting-3/
LOCATION:Mary C. Brown Public Library\, 250 SE 5th Avenue\, Lake Butler\, FL\, 32054\, United States
CATEGORIES:Mary C. Brown
END:VEVENT
BEGIN:VEVENT
DTSTART;TZID=America/New_York:20251217T080000
DTEND;TZID=America/New_York:20251217T090000
DTSTAMP:20260423T201314
CREATED:20251204T145952Z
LAST-MODIFIED:20251204T145952Z
UID:10000716-1765958400-1765962000@www.newriverlibrary.org
SUMMARY:JFOL Meeting
DESCRIPTION:UCHS
URL:https://www.newriverlibrary.org/event/jfol-meeting-2/
LOCATION:Mary C. Brown Public Library\, 250 SE 5th Avenue\, Lake Butler\, FL\, 32054\, United States
CATEGORIES:Mary C. Brown
END:VEVENT
BEGIN:VEVENT
DTSTART;TZID=America/New_York:20251216T100000
DTEND;TZID=America/New_York:20251216T110000
DTSTAMP:20260423T201314
CREATED:20251215T144621Z
LAST-MODIFIED:20251215T144621Z
UID:10000775-1765879200-1765882800@www.newriverlibrary.org
SUMMARY:Senior Social
DESCRIPTION:Christmas Party
URL:https://www.newriverlibrary.org/event/senior-social-5/
LOCATION:Mary C. Brown Public Library\, 250 SE 5th Avenue\, Lake Butler\, FL\, 32054\, United States
CATEGORIES:Mary C. Brown
END:VEVENT
BEGIN:VEVENT
DTSTART;TZID=America/New_York:20251216T100000
DTEND;TZID=America/New_York:20251216T110000
DTSTAMP:20260423T201314
CREATED:20251204T145905Z
LAST-MODIFIED:20251204T145905Z
UID:10000715-1765879200-1765882800@www.newriverlibrary.org
SUMMARY:Senior Social Christmas Party
DESCRIPTION:
URL:https://www.newriverlibrary.org/event/senior-social-christmas-party/
LOCATION:Mary C. Brown Public Library\, 250 SE 5th Avenue\, Lake Butler\, FL\, 32054\, United States
CATEGORIES:Mary C. Brown
END:VEVENT
BEGIN:VEVENT
DTSTART;TZID=America/New_York:20251215T180000
DTEND;TZID=America/New_York:20251215T200000
DTSTAMP:20260423T201314
CREATED:20251215T144533Z
LAST-MODIFIED:20251215T144533Z
UID:10000774-1765821600-1765828800@www.newriverlibrary.org
SUMMARY:UCBoCC Meeting
DESCRIPTION:Courthouse
URL:https://www.newriverlibrary.org/event/ucbocc-meeting/
LOCATION:Mary C. Brown Public Library\, 250 SE 5th Avenue\, Lake Butler\, FL\, 32054\, United States
CATEGORIES:Mary C. Brown
END:VEVENT
BEGIN:VEVENT
DTSTART;TZID=America/New_York:20251215T180000
DTEND;TZID=America/New_York:20251215T200000
DTSTAMP:20260423T201314
CREATED:20251204T145758Z
LAST-MODIFIED:20251204T145758Z
UID:10000714-1765821600-1765828800@www.newriverlibrary.org
SUMMARY:UCBoCC
DESCRIPTION:Courthouse
URL:https://www.newriverlibrary.org/event/ucbocc-3/
LOCATION:Mary C. Brown Public Library\, 250 SE 5th Avenue\, Lake Butler\, FL\, 32054\, United States
CATEGORIES:Mary C. Brown
END:VEVENT
BEGIN:VEVENT
DTSTART;TZID=America/New_York:20251213T180000
DTEND;TZID=America/New_York:20251213T200000
DTSTAMP:20260423T201314
CREATED:20251204T145706Z
LAST-MODIFIED:20251204T145706Z
UID:10000713-1765648800-1765656000@www.newriverlibrary.org
SUMMARY:City of Lake Butler Christmas Parade 2025
DESCRIPTION:
URL:https://www.newriverlibrary.org/event/city-of-lake-butler-christmas-parade-2025/
LOCATION:Mary C. Brown Public Library\, 250 SE 5th Avenue\, Lake Butler\, FL\, 32054\, United States
CATEGORIES:Mary C. Brown
END:VEVENT
BEGIN:VEVENT
DTSTART;TZID=America/New_York:20251213T120000
DTEND;TZID=America/New_York:20251213T140000
DTSTAMP:20260423T201314
CREATED:20251204T145610Z
LAST-MODIFIED:20251204T145610Z
UID:10000712-1765627200-1765634400@www.newriverlibrary.org
SUMMARY:Christmas Bingo
DESCRIPTION:
URL:https://www.newriverlibrary.org/event/christmas-bingo/
LOCATION:Mary C. Brown Public Library\, 250 SE 5th Avenue\, Lake Butler\, FL\, 32054\, United States
CATEGORIES:Mary C. Brown
END:VEVENT
BEGIN:VEVENT
DTSTART;TZID=America/New_York:20251209T180000
DTEND;TZID=America/New_York:20251209T190000
DTSTAMP:20260423T201314
CREATED:20251204T145527Z
LAST-MODIFIED:20251204T145527Z
UID:10000711-1765303200-1765306800@www.newriverlibrary.org
SUMMARY:Adult Program
DESCRIPTION:
URL:https://www.newriverlibrary.org/event/adult-program-4/
LOCATION:Mary C. Brown Public Library\, 250 SE 5th Avenue\, Lake Butler\, FL\, 32054\, United States
CATEGORIES:Mary C. Brown
END:VEVENT
BEGIN:VEVENT
DTSTART;TZID=America/New_York:20251206T080000
DTEND;TZID=America/New_York:20251206T100000
DTSTAMP:20260423T201314
CREATED:20251204T145428Z
LAST-MODIFIED:20251204T145428Z
UID:10000710-1765008000-1765015200@www.newriverlibrary.org
SUMMARY:Breakfast with Santa
DESCRIPTION:Raiford Community Center
URL:https://www.newriverlibrary.org/event/breakfast-with-santa/
LOCATION:Mary C. Brown Public Library\, 250 SE 5th Avenue\, Lake Butler\, FL\, 32054\, United States
CATEGORIES:Mary C. Brown
END:VEVENT
BEGIN:VEVENT
DTSTART;TZID=America/New_York:20251204T153000
DTEND;TZID=America/New_York:20251204T170000
DTSTAMP:20260423T201314
CREATED:20251204T145336Z
LAST-MODIFIED:20251204T145336Z
UID:10000709-1764862200-1764867600@www.newriverlibrary.org
SUMMARY:Christmas Party
DESCRIPTION:After School
URL:https://www.newriverlibrary.org/event/christmas-party/
LOCATION:Mary C. Brown Public Library\, 250 SE 5th Avenue\, Lake Butler\, FL\, 32054\, United States
CATEGORIES:Mary C. Brown
END:VEVENT
BEGIN:VEVENT
DTSTART;TZID=America/New_York:20251204T153000
DTEND;TZID=America/New_York:20251204T163000
DTSTAMP:20260423T201314
CREATED:20250909T153935Z
LAST-MODIFIED:20250909T153935Z
UID:10000654-1764862200-1764865800@www.newriverlibrary.org
SUMMARY:STEAM Program
DESCRIPTION:Christmas Party – Holiday games and crafts
URL:https://www.newriverlibrary.org/event/steam-program-6/
LOCATION:Mary C. Brown Public Library\, 250 SE 5th Avenue\, Lake Butler\, FL\, 32054\, United States
CATEGORIES:Mary C. Brown
END:VEVENT
BEGIN:VEVENT
DTSTART;TZID=America/New_York:20251204T103000
DTEND;TZID=America/New_York:20251204T110000
DTSTAMP:20260423T201314
CREATED:20250814T160205Z
LAST-MODIFIED:20250814T160205Z
UID:10000618-1764844200-1764846000@www.newriverlibrary.org
SUMMARY:PreSchool Storytime
DESCRIPTION:Let’s Read \nNov. 6th – Mouse Paint \nNov. 13th – Turkey Trouble \nNov. 20th – SF Teaching Zoo \nNov. 27th – NO PROGRAM \nDec. 4th – Santa Claus!
URL:https://www.newriverlibrary.org/event/preschool-storytime-6/2025-12-04/
LOCATION:Mary C. Brown Public Library\, 250 SE 5th Avenue\, Lake Butler\, FL\, 32054\, United States
CATEGORIES:Mary C. Brown
END:VEVENT
BEGIN:VEVENT
DTSTART;TZID=America/New_York:20251204T100000
DTEND;TZID=America/New_York:20251204T103000
DTSTAMP:20260423T201314
CREATED:20251204T145248Z
LAST-MODIFIED:20251204T145248Z
UID:10000708-1764842400-1764844200@www.newriverlibrary.org
SUMMARY:Story Time
DESCRIPTION:
URL:https://www.newriverlibrary.org/event/story-time-6/
LOCATION:Mary C. Brown Public Library\, 250 SE 5th Avenue\, Lake Butler\, FL\, 32054\, United States
CATEGORIES:Mary C. Brown
END:VEVENT
BEGIN:VEVENT
DTSTART;TZID=America/New_York:20251203T130000
DTEND;TZID=America/New_York:20251203T133000
DTSTAMP:20260423T201314
CREATED:20250814T160204Z
LAST-MODIFIED:20250814T160204Z
UID:10000629-1764766800-1764768600@www.newriverlibrary.org
SUMMARY:PreSchool Storytime
DESCRIPTION:Nov. 5th – Mouse Paint \nNov. 12th – Turkey Trouble \nNov. 20th (Thurs. Only at 10:30 AM) – SF Teaching Zoo \nNov. 26th – NO PROGRAM \nDec. 4th (Thurs. Only at 10:30 AM) – Santa Claus!
URL:https://www.newriverlibrary.org/event/preschool-storytime-2/2025-12-03/
LOCATION:Mary C. Brown Public Library\, 250 SE 5th Avenue\, Lake Butler\, FL\, 32054\, United States
CATEGORIES:Mary C. Brown
END:VEVENT
BEGIN:VEVENT
DTSTART;TZID=America/New_York:20251127T103000
DTEND;TZID=America/New_York:20251127T110000
DTSTAMP:20260423T201314
CREATED:20250814T160205Z
LAST-MODIFIED:20250814T160205Z
UID:10000617-1764239400-1764241200@www.newriverlibrary.org
SUMMARY:PreSchool Storytime
DESCRIPTION:Let’s Read \nNov. 6th – Mouse Paint \nNov. 13th – Turkey Trouble \nNov. 20th – SF Teaching Zoo \nNov. 27th – NO PROGRAM \nDec. 4th – Santa Claus!
URL:https://www.newriverlibrary.org/event/preschool-storytime-6/2025-11-27/
LOCATION:Mary C. Brown Public Library\, 250 SE 5th Avenue\, Lake Butler\, FL\, 32054\, United States
CATEGORIES:Mary C. Brown
END:VEVENT
BEGIN:VEVENT
DTSTART;TZID=America/New_York:20251126T130000
DTEND;TZID=America/New_York:20251126T133000
DTSTAMP:20260423T201314
CREATED:20250814T160204Z
LAST-MODIFIED:20250814T160204Z
UID:10000628-1764162000-1764163800@www.newriverlibrary.org
SUMMARY:PreSchool Storytime
DESCRIPTION:Nov. 5th – Mouse Paint \nNov. 12th – Turkey Trouble \nNov. 20th (Thurs. Only at 10:30 AM) – SF Teaching Zoo \nNov. 26th – NO PROGRAM \nDec. 4th (Thurs. Only at 10:30 AM) – Santa Claus!
URL:https://www.newriverlibrary.org/event/preschool-storytime-2/2025-11-26/
LOCATION:Mary C. Brown Public Library\, 250 SE 5th Avenue\, Lake Butler\, FL\, 32054\, United States
CATEGORIES:Mary C. Brown
END:VEVENT
BEGIN:VEVENT
DTSTART;TZID=America/New_York:20251120T153000
DTEND;TZID=America/New_York:20251120T163000
DTSTAMP:20260423T201314
CREATED:20250909T153849Z
LAST-MODIFIED:20250909T153849Z
UID:10000653-1763652600-1763656200@www.newriverlibrary.org
SUMMARY:STEAM Program
DESCRIPTION:Playing with Polymers – DIY Bouncy Balls
URL:https://www.newriverlibrary.org/event/steam-program-5/
LOCATION:Mary C. Brown Public Library\, 250 SE 5th Avenue\, Lake Butler\, FL\, 32054\, United States
CATEGORIES:Mary C. Brown
END:VEVENT
BEGIN:VEVENT
DTSTART;TZID=America/New_York:20251120T103000
DTEND;TZID=America/New_York:20251120T110000
DTSTAMP:20260423T201314
CREATED:20250814T160205Z
LAST-MODIFIED:20250814T160205Z
UID:10000616-1763634600-1763636400@www.newriverlibrary.org
SUMMARY:PreSchool Storytime
DESCRIPTION:Let’s Read \nNov. 6th – Mouse Paint \nNov. 13th – Turkey Trouble \nNov. 20th – SF Teaching Zoo \nNov. 27th – NO PROGRAM \nDec. 4th – Santa Claus!
URL:https://www.newriverlibrary.org/event/preschool-storytime-6/2025-11-20/
LOCATION:Mary C. Brown Public Library\, 250 SE 5th Avenue\, Lake Butler\, FL\, 32054\, United States
CATEGORIES:Mary C. Brown
END:VEVENT
BEGIN:VEVENT
DTSTART;TZID=America/New_York:20251119T130000
DTEND;TZID=America/New_York:20251119T133000
DTSTAMP:20260423T201314
CREATED:20250814T160204Z
LAST-MODIFIED:20250814T160204Z
UID:10000627-1763557200-1763559000@www.newriverlibrary.org
SUMMARY:PreSchool Storytime
DESCRIPTION:Nov. 5th – Mouse Paint \nNov. 12th – Turkey Trouble \nNov. 20th (Thurs. Only at 10:30 AM) – SF Teaching Zoo \nNov. 26th – NO PROGRAM \nDec. 4th (Thurs. Only at 10:30 AM) – Santa Claus!
URL:https://www.newriverlibrary.org/event/preschool-storytime-2/2025-11-19/
LOCATION:Mary C. Brown Public Library\, 250 SE 5th Avenue\, Lake Butler\, FL\, 32054\, United States
CATEGORIES:Mary C. Brown
END:VEVENT
BEGIN:VEVENT
DTSTART;TZID=America/New_York:20251113T103000
DTEND;TZID=America/New_York:20251113T110000
DTSTAMP:20260423T201314
CREATED:20250814T160205Z
LAST-MODIFIED:20250814T160205Z
UID:10000615-1763029800-1763031600@www.newriverlibrary.org
SUMMARY:PreSchool Storytime
DESCRIPTION:Let’s Read \nNov. 6th – Mouse Paint \nNov. 13th – Turkey Trouble \nNov. 20th – SF Teaching Zoo \nNov. 27th – NO PROGRAM \nDec. 4th – Santa Claus!
URL:https://www.newriverlibrary.org/event/preschool-storytime-6/2025-11-13/
LOCATION:Mary C. Brown Public Library\, 250 SE 5th Avenue\, Lake Butler\, FL\, 32054\, United States
CATEGORIES:Mary C. Brown
END:VEVENT
BEGIN:VEVENT
DTSTART;TZID=America/New_York:20251112T130000
DTEND;TZID=America/New_York:20251112T133000
DTSTAMP:20260423T201314
CREATED:20250814T160204Z
LAST-MODIFIED:20250814T160204Z
UID:10000626-1762952400-1762954200@www.newriverlibrary.org
SUMMARY:PreSchool Storytime
DESCRIPTION:Nov. 5th – Mouse Paint \nNov. 12th – Turkey Trouble \nNov. 20th (Thurs. Only at 10:30 AM) – SF Teaching Zoo \nNov. 26th – NO PROGRAM \nDec. 4th (Thurs. Only at 10:30 AM) – Santa Claus!
URL:https://www.newriverlibrary.org/event/preschool-storytime-2/2025-11-12/
LOCATION:Mary C. Brown Public Library\, 250 SE 5th Avenue\, Lake Butler\, FL\, 32054\, United States
CATEGORIES:Mary C. Brown
END:VEVENT
BEGIN:VEVENT
DTSTART;TZID=America/New_York:20251106T153000
DTEND;TZID=America/New_York:20251106T163000
DTSTAMP:20260423T201314
CREATED:20250909T153741Z
LAST-MODIFIED:20250909T153741Z
UID:10000652-1762443000-1762446600@www.newriverlibrary.org
SUMMARY:STEAM Program
DESCRIPTION:Zip & Zoom Electric Race Cars
URL:https://www.newriverlibrary.org/event/steam-program-4/
LOCATION:Mary C. Brown Public Library\, 250 SE 5th Avenue\, Lake Butler\, FL\, 32054\, United States
CATEGORIES:Mary C. Brown
END:VEVENT
BEGIN:VEVENT
DTSTART;TZID=America/New_York:20251106T103000
DTEND;TZID=America/New_York:20251106T110000
DTSTAMP:20260423T201314
CREATED:20250814T160205Z
LAST-MODIFIED:20250814T160205Z
UID:10000614-1762425000-1762426800@www.newriverlibrary.org
SUMMARY:PreSchool Storytime
DESCRIPTION:Let’s Read \nNov. 6th – Mouse Paint \nNov. 13th – Turkey Trouble \nNov. 20th – SF Teaching Zoo \nNov. 27th – NO PROGRAM \nDec. 4th – Santa Claus!
URL:https://www.newriverlibrary.org/event/preschool-storytime-6/2025-11-06/
LOCATION:Mary C. Brown Public Library\, 250 SE 5th Avenue\, Lake Butler\, FL\, 32054\, United States
CATEGORIES:Mary C. Brown
END:VEVENT
BEGIN:VEVENT
DTSTART;TZID=America/New_York:20251105T130000
DTEND;TZID=America/New_York:20251105T133000
DTSTAMP:20260423T201314
CREATED:20250814T160204Z
LAST-MODIFIED:20250814T160204Z
UID:10000625-1762347600-1762349400@www.newriverlibrary.org
SUMMARY:PreSchool Storytime
DESCRIPTION:Nov. 5th – Mouse Paint \nNov. 12th – Turkey Trouble \nNov. 20th (Thurs. Only at 10:30 AM) – SF Teaching Zoo \nNov. 26th – NO PROGRAM \nDec. 4th (Thurs. Only at 10:30 AM) – Santa Claus!
URL:https://www.newriverlibrary.org/event/preschool-storytime-2/2025-11-05/
LOCATION:Mary C. Brown Public Library\, 250 SE 5th Avenue\, Lake Butler\, FL\, 32054\, United States
CATEGORIES:Mary C. Brown
END:VEVENT
BEGIN:VEVENT
DTSTART;TZID=America/New_York:20251031T080000
DTEND;TZID=America/New_York:20251031T090000
DTSTAMP:20260423T201314
CREATED:20251001T195938Z
LAST-MODIFIED:20251001T195938Z
UID:10000675-1761897600-1761901200@www.newriverlibrary.org
SUMMARY:JFOL Meeting
DESCRIPTION:UCHS
URL:https://www.newriverlibrary.org/event/jfol-meeting/
LOCATION:Mary C. Brown Public Library\, 250 SE 5th Avenue\, Lake Butler\, FL\, 32054\, United States
CATEGORIES:Mary C. Brown
END:VEVENT
BEGIN:VEVENT
DTSTART;TZID=America/New_York:20251030T180000
DTEND;TZID=America/New_York:20251030T200000
DTSTAMP:20260423T201314
CREATED:20251001T195811Z
LAST-MODIFIED:20251001T195811Z
UID:10000674-1761847200-1761854400@www.newriverlibrary.org
SUMMARY:City of Lake Butler
DESCRIPTION:
URL:https://www.newriverlibrary.org/event/city-of-lake-butler/
LOCATION:Mary C. Brown Public Library\, 250 SE 5th Avenue\, Lake Butler\, FL\, 32054\, United States
CATEGORIES:Mary C. Brown
END:VEVENT
BEGIN:VEVENT
DTSTART;TZID=America/New_York:20251030T103000
DTEND;TZID=America/New_York:20251030T110000
DTSTAMP:20260423T201314
CREATED:20250814T160205Z
LAST-MODIFIED:20250814T160205Z
UID:10000613-1761820200-1761822000@www.newriverlibrary.org
SUMMARY:PreSchool Storytime
DESCRIPTION:Let’s Read \nOct. 2nd – Dog on a Frog \nOct. 9th – Chicka Chicka Boom Boom \nOct. 16th – A Porcupine Named Fluffy \nOct. 23rd – The Doghouse \nOct. 30th – Go Away Big Green Monster
URL:https://www.newriverlibrary.org/event/preschool-storytime-7/2025-10-30/
LOCATION:Mary C. Brown Public Library\, 250 SE 5th Avenue\, Lake Butler\, FL\, 32054\, United States
CATEGORIES:Mary C. Brown
END:VEVENT
BEGIN:VEVENT
DTSTART;TZID=America/New_York:20251029T130000
DTEND;TZID=America/New_York:20251029T133000
DTSTAMP:20260423T201314
CREATED:20250814T160204Z
LAST-MODIFIED:20250814T160204Z
UID:10000624-1761742800-1761744600@www.newriverlibrary.org
SUMMARY:PreSchool Storytime
DESCRIPTION:Oct. 1st – Dog on a Frog \nOct. 8th – Chicka Chicka  Boom Boom \nOct. 15th – A Porcupine Named Fluffy \nOct. 22nd – The Doghouse \nOct. 29th – Go Away Big Green Monster
URL:https://www.newriverlibrary.org/event/preschool-storytime-3/2025-10-29/
LOCATION:Mary C. Brown Public Library\, 250 SE 5th Avenue\, Lake Butler\, FL\, 32054\, United States
CATEGORIES:Mary C. Brown
END:VEVENT
END:VCALENDAR