BEGIN:VCALENDAR
VERSION:2.0
PRODID:-//New River Public Library Cooperative - ECPv6.15.20//NONSGML v1.0//EN
CALSCALE:GREGORIAN
METHOD:PUBLISH
X-WR-CALNAME:New River Public Library Cooperative
X-ORIGINAL-URL:https://www.newriverlibrary.org
X-WR-CALDESC:Events for New River Public Library Cooperative
REFRESH-INTERVAL;VALUE=DURATION:PT1H
X-Robots-Tag:noindex
X-PUBLISHED-TTL:PT1H
BEGIN:VTIMEZONE
TZID:America/New_York
BEGIN:DAYLIGHT
TZOFFSETFROM:-0500
TZOFFSETTO:-0400
TZNAME:EDT
DTSTART:20250309T070000
END:DAYLIGHT
BEGIN:STANDARD
TZOFFSETFROM:-0400
TZOFFSETTO:-0500
TZNAME:EST
DTSTART:20251102T060000
END:STANDARD
BEGIN:DAYLIGHT
TZOFFSETFROM:-0500
TZOFFSETTO:-0400
TZNAME:EDT
DTSTART:20260308T070000
END:DAYLIGHT
BEGIN:STANDARD
TZOFFSETFROM:-0400
TZOFFSETTO:-0500
TZNAME:EST
DTSTART:20261101T060000
END:STANDARD
BEGIN:DAYLIGHT
TZOFFSETFROM:-0500
TZOFFSETTO:-0400
TZNAME:EDT
DTSTART:20270314T070000
END:DAYLIGHT
BEGIN:STANDARD
TZOFFSETFROM:-0400
TZOFFSETTO:-0500
TZNAME:EST
DTSTART:20271107T060000
END:STANDARD
END:VTIMEZONE
BEGIN:VEVENT
DTSTART;VALUE=DATE:20260403
DTEND;VALUE=DATE:20260405
DTSTAMP:20260425T102409
CREATED:20260318T151639Z
LAST-MODIFIED:20260318T151639Z
UID:10000849-1775174400-1775347199@www.newriverlibrary.org
SUMMARY:Library Closed
DESCRIPTION:
URL:https://www.newriverlibrary.org/event/library-closed-9/
LOCATION:Mary C. Brown Public Library\, 250 SE 5th Avenue\, Lake Butler\, FL\, 32054\, United States
CATEGORIES:Mary C. Brown
END:VEVENT
BEGIN:VEVENT
DTSTART;TZID=America/New_York:20260408T110000
DTEND;TZID=America/New_York:20260408T120000
DTSTAMP:20260425T102409
CREATED:20251204T155300Z
LAST-MODIFIED:20251231T171456Z
UID:10000765-1775646000-1775649600@www.newriverlibrary.org
SUMMARY:Homeschool Program
DESCRIPTION:Ages 4-17
URL:https://www.newriverlibrary.org/event/homeschool-program-8/
LOCATION:Bradford County\, 456 W Pratt St\, Starke\, FL\, United States
CATEGORIES:Bradford County
END:VEVENT
BEGIN:VEVENT
DTSTART;TZID=America/New_York:20260408T140000
DTEND;TZID=America/New_York:20260408T200000
DTSTAMP:20260425T102409
CREATED:20251231T171611Z
LAST-MODIFIED:20251231T171611Z
UID:10000808-1775656800-1775678400@www.newriverlibrary.org
SUMMARY:Art & Geography Kit Pick Up
DESCRIPTION:While supplies last
URL:https://www.newriverlibrary.org/event/art-geography-kit-pick-up/2026-04-08/
LOCATION:Bradford County\, 456 W Pratt St\, Starke\, FL\, United States
CATEGORIES:Bradford County
END:VEVENT
BEGIN:VEVENT
DTSTART;TZID=America/New_York:20260409T140000
DTEND;TZID=America/New_York:20260409T200000
DTSTAMP:20260425T102409
CREATED:20251231T171611Z
LAST-MODIFIED:20251231T171611Z
UID:10000809-1775743200-1775764800@www.newriverlibrary.org
SUMMARY:Art & Geography Kit Pick Up
DESCRIPTION:While supplies last
URL:https://www.newriverlibrary.org/event/art-geography-kit-pick-up/2026-04-09/
LOCATION:Bradford County\, 456 W Pratt St\, Starke\, FL\, United States
CATEGORIES:Bradford County
END:VEVENT
BEGIN:VEVENT
DTSTART;TZID=America/New_York:20260410T140000
DTEND;TZID=America/New_York:20260410T200000
DTSTAMP:20260425T102409
CREATED:20251231T171611Z
LAST-MODIFIED:20251231T171611Z
UID:10000810-1775829600-1775851200@www.newriverlibrary.org
SUMMARY:Art & Geography Kit Pick Up
DESCRIPTION:While supplies last
URL:https://www.newriverlibrary.org/event/art-geography-kit-pick-up/2026-04-10/
LOCATION:Bradford County\, 456 W Pratt St\, Starke\, FL\, United States
CATEGORIES:Bradford County
END:VEVENT
BEGIN:VEVENT
DTSTART;TZID=America/New_York:20260414T173000
DTEND;TZID=America/New_York:20260414T190000
DTSTAMP:20260425T102409
CREATED:20251204T155413Z
LAST-MODIFIED:20251204T155413Z
UID:10000766-1776187800-1776193200@www.newriverlibrary.org
SUMMARY:Hook & Gather
DESCRIPTION:Crochet meetup for all skill levels
URL:https://www.newriverlibrary.org/event/hook-gather-8/
LOCATION:Bradford County\, 456 W Pratt St\, Starke\, FL\, United States
CATEGORIES:Adults,Bradford County,Teens
END:VEVENT
BEGIN:VEVENT
DTSTART;TZID=America/New_York:20260416T113000
DTEND;TZID=America/New_York:20260416T133000
DTSTAMP:20260425T102409
CREATED:20251204T155509Z
LAST-MODIFIED:20251204T155509Z
UID:10000767-1776339000-1776346200@www.newriverlibrary.org
SUMMARY:Books & Brunch
DESCRIPTION:Read The Berry Pickers by Amanda Peters and meet at Tip Thai Restaurant to discuss. \nBring $ to order from the menu.
URL:https://www.newriverlibrary.org/event/books-brunch-8/
LOCATION:Bradford County\, 456 W Pratt St\, Starke\, FL\, United States
CATEGORIES:Adults,Bradford County
END:VEVENT
BEGIN:VEVENT
DTSTART;TZID=America/New_York:20260428T173000
DTEND;TZID=America/New_York:20260428T190000
DTSTAMP:20260425T102409
CREATED:20251204T155555Z
LAST-MODIFIED:20251204T155555Z
UID:10000768-1777397400-1777402800@www.newriverlibrary.org
SUMMARY:Hook & Gather
DESCRIPTION:Crochet meetup for all skill levels
URL:https://www.newriverlibrary.org/event/hook-gather-9/
LOCATION:Bradford County\, 456 W Pratt St\, Starke\, FL\, United States
CATEGORIES:Adults,Bradford County,Teens
END:VEVENT
BEGIN:VEVENT
DTSTART;TZID=America/New_York:20260429T153000
DTEND;TZID=America/New_York:20260429T170000
DTSTAMP:20260425T102409
CREATED:20260417T165107Z
LAST-MODIFIED:20260417T165107Z
UID:10000853-1777476600-1777482000@www.newriverlibrary.org
SUMMARY:After-School Program
DESCRIPTION:Join us on Wednesday\, April 29th for Fairy Gardens at the Baker UF Extension office! Drop in between 3:30 PM-5PM. This program is recommended for children 5 and up. Supplies are provided but limited. Hope to see you there!
URL:https://www.newriverlibrary.org/event/after-school-program-2/
LOCATION:FL
CATEGORIES:Emily Taber
ATTACH;FMTTYPE=image/jpeg:https://www.newriverlibrary.org/wp-content/uploads/2023/05/2.jpg
ORGANIZER;CN="Emily Taber Public Library":MAILTO:etaber@neflin.org
END:VEVENT
BEGIN:VEVENT
DTSTART;TZID=America/New_York:20260430T103000
DTEND;TZID=America/New_York:20260430T110000
DTSTAMP:20260425T102409
CREATED:20260417T164750Z
LAST-MODIFIED:20260417T164820Z
UID:10000852-1777545000-1777546800@www.newriverlibrary.org
SUMMARY:Preschool Storytime
DESCRIPTION:Join us for Preschool Storytime on Thursday\, April 30th at 10:30 AM for a special Musical Storytime!
URL:https://www.newriverlibrary.org/event/preschool-storytime/
LOCATION:Emily Taber\, 14 McIver Ave. West\, Macclenny\, Fl\, 32063
CATEGORIES:Emily Taber
ATTACH;FMTTYPE=image/jpeg:https://www.newriverlibrary.org/wp-content/uploads/2023/05/2.jpg
ORGANIZER;CN="Emily Taber Public Library":MAILTO:etaber@neflin.org
END:VEVENT
BEGIN:VEVENT
DTSTART;TZID=America/New_York:20260512T173000
DTEND;TZID=America/New_York:20260512T190000
DTSTAMP:20260425T102409
CREATED:20251204T155647Z
LAST-MODIFIED:20251204T155647Z
UID:10000769-1778607000-1778612400@www.newriverlibrary.org
SUMMARY:Hook & Gather
DESCRIPTION:Crochet meetup for all skill levels
URL:https://www.newriverlibrary.org/event/hook-gather-10/
LOCATION:Bradford County\, 456 W Pratt St\, Starke\, FL\, United States
CATEGORIES:Adults,Bradford County,Teens
END:VEVENT
BEGIN:VEVENT
DTSTART;TZID=America/New_York:20260513T110000
DTEND;TZID=America/New_York:20260513T120000
DTSTAMP:20260425T102409
CREATED:20260417T165520Z
LAST-MODIFIED:20260417T165520Z
UID:10000854-1778670000-1778673600@www.newriverlibrary.org
SUMMARY:Book Club
DESCRIPTION:Join us for Book Club at Emily Taber Public Library on Wednesday\, May 13th at 11 AM. Adults 18 and over are welcome and limited copies are available at the circulation desk. Be sure to call ahead of time to be sure a book is available.
URL:https://www.newriverlibrary.org/event/book-club/
LOCATION:Emily Taber\, 14 McIver Ave. West\, Macclenny\, Fl\, 32063
CATEGORIES:Emily Taber
ATTACH;FMTTYPE=image/jpeg:https://www.newriverlibrary.org/wp-content/uploads/2023/05/2.jpg
ORGANIZER;CN="Emily Taber Public Library":MAILTO:etaber@neflin.org
END:VEVENT
BEGIN:VEVENT
DTSTART;TZID=America/New_York:20260513T140000
DTEND;TZID=America/New_York:20260513T200000
DTSTAMP:20260425T102409
CREATED:20251231T171813Z
LAST-MODIFIED:20251231T171813Z
UID:10000811-1778680800-1778702400@www.newriverlibrary.org
SUMMARY:Get Ready for Summer Arts & Crafts Pick Up
DESCRIPTION:While supplies last
URL:https://www.newriverlibrary.org/event/get-ready-for-summer-arts-crafts-pick-up/2026-05-13/
LOCATION:Bradford County\, 456 W Pratt St\, Starke\, FL\, United States
CATEGORIES:Bradford County
END:VEVENT
BEGIN:VEVENT
DTSTART;TZID=America/New_York:20260514T140000
DTEND;TZID=America/New_York:20260514T200000
DTSTAMP:20260425T102409
CREATED:20251231T171813Z
LAST-MODIFIED:20251231T171813Z
UID:10000812-1778767200-1778788800@www.newriverlibrary.org
SUMMARY:Get Ready for Summer Arts & Crafts Pick Up
DESCRIPTION:While supplies last
URL:https://www.newriverlibrary.org/event/get-ready-for-summer-arts-crafts-pick-up/2026-05-14/
LOCATION:Bradford County\, 456 W Pratt St\, Starke\, FL\, United States
CATEGORIES:Bradford County
END:VEVENT
BEGIN:VEVENT
DTSTART;TZID=America/New_York:20260515T140000
DTEND;TZID=America/New_York:20260515T200000
DTSTAMP:20260425T102409
CREATED:20251231T171813Z
LAST-MODIFIED:20251231T171813Z
UID:10000813-1778853600-1778875200@www.newriverlibrary.org
SUMMARY:Get Ready for Summer Arts & Crafts Pick Up
DESCRIPTION:While supplies last
URL:https://www.newriverlibrary.org/event/get-ready-for-summer-arts-crafts-pick-up/2026-05-15/
LOCATION:Bradford County\, 456 W Pratt St\, Starke\, FL\, United States
CATEGORIES:Bradford County
END:VEVENT
BEGIN:VEVENT
DTSTART;TZID=America/New_York:20260521T113000
DTEND;TZID=America/New_York:20260521T133000
DTSTAMP:20260425T102409
CREATED:20251204T155743Z
LAST-MODIFIED:20251204T155743Z
UID:10000770-1779363000-1779370200@www.newriverlibrary.org
SUMMARY:Books & Brunch
DESCRIPTION:Read The Storm We Made by Vanessa Chan and meet at The Downtown Grill to discuss.\nBring $ to order from the menu.
URL:https://www.newriverlibrary.org/event/books-brunch-9/
LOCATION:Bradford County\, 456 W Pratt St\, Starke\, FL\, United States
CATEGORIES:Adults,Bradford County
END:VEVENT
BEGIN:VEVENT
DTSTART;TZID=America/New_York:20260526T173000
DTEND;TZID=America/New_York:20260526T190000
DTSTAMP:20260425T102409
CREATED:20251204T155828Z
LAST-MODIFIED:20251204T155828Z
UID:10000771-1779816600-1779822000@www.newriverlibrary.org
SUMMARY:Hook & Gather
DESCRIPTION:Crochet meetup for all skill levels
URL:https://www.newriverlibrary.org/event/hook-gather-11/
LOCATION:Bradford County\, 456 W Pratt St\, Starke\, FL\, United States
CATEGORIES:Adults,Bradford County,Teens
END:VEVENT
END:VCALENDAR