BEGIN:VCALENDAR
VERSION:2.0
PRODID:-//New River Public Library Cooperative - ECPv6.15.20//NONSGML v1.0//EN
CALSCALE:GREGORIAN
METHOD:PUBLISH
X-WR-CALNAME:New River Public Library Cooperative
X-ORIGINAL-URL:https://www.newriverlibrary.org
X-WR-CALDESC:Events for New River Public Library Cooperative
REFRESH-INTERVAL;VALUE=DURATION:PT1H
X-Robots-Tag:noindex
X-PUBLISHED-TTL:PT1H
BEGIN:VTIMEZONE
TZID:America/New_York
BEGIN:DAYLIGHT
TZOFFSETFROM:-0500
TZOFFSETTO:-0400
TZNAME:EDT
DTSTART:20240310T070000
END:DAYLIGHT
BEGIN:STANDARD
TZOFFSETFROM:-0400
TZOFFSETTO:-0500
TZNAME:EST
DTSTART:20241103T060000
END:STANDARD
BEGIN:DAYLIGHT
TZOFFSETFROM:-0500
TZOFFSETTO:-0400
TZNAME:EDT
DTSTART:20250309T070000
END:DAYLIGHT
BEGIN:STANDARD
TZOFFSETFROM:-0400
TZOFFSETTO:-0500
TZNAME:EST
DTSTART:20251102T060000
END:STANDARD
BEGIN:DAYLIGHT
TZOFFSETFROM:-0500
TZOFFSETTO:-0400
TZNAME:EDT
DTSTART:20260308T070000
END:DAYLIGHT
BEGIN:STANDARD
TZOFFSETFROM:-0400
TZOFFSETTO:-0500
TZNAME:EST
DTSTART:20261101T060000
END:STANDARD
END:VTIMEZONE
BEGIN:VEVENT
DTSTART;TZID=America/New_York:20251104T173000
DTEND;TZID=America/New_York:20251104T183000
DTSTAMP:20260425T092839
CREATED:20251031T143848Z
LAST-MODIFIED:20251031T143848Z
UID:10000678-1762277400-1762281000@www.newriverlibrary.org
SUMMARY:Self-Publishing Workshop
DESCRIPTION:With author AJ Craft
URL:https://www.newriverlibrary.org/event/self-publishing-workshop/
LOCATION:Bradford County\, 456 W Pratt St\, Starke\, FL\, United States
CATEGORIES:Adults,Bradford County,Teens
END:VEVENT
BEGIN:VEVENT
DTSTART;TZID=America/New_York:20251104T160000
DTEND;TZID=America/New_York:20251104T170000
DTSTAMP:20260425T092839
CREATED:20251031T143848Z
LAST-MODIFIED:20251031T143848Z
UID:10000677-1762272000-1762275600@www.newriverlibrary.org
SUMMARY:Meet the Author
DESCRIPTION:JImmy Deas\, author of A Teacher’s Gift\, Just a Dog\, Mama Said\, and Let Me Tell You a Story.
URL:https://www.newriverlibrary.org/event/meet-the-author-2/
LOCATION:Bradford County\, 456 W Pratt St\, Starke\, FL\, United States
CATEGORIES:Adults,Bradford County
END:VEVENT
BEGIN:VEVENT
DTSTART;TZID=America/New_York:20251104T101500
DTEND;TZID=America/New_York:20251104T104500
DTSTAMP:20260425T092839
CREATED:20251031T143848Z
LAST-MODIFIED:20251031T143848Z
UID:10000676-1762251300-1762253100@www.newriverlibrary.org
SUMMARY:Toddler Time with Melanie
DESCRIPTION:Ages 0-2
URL:https://www.newriverlibrary.org/event/toddler-time-with-melanie-2/
LOCATION:Bradford County\, 456 W Pratt St\, Starke\, FL\, United States
CATEGORIES:Bradford County,Kids
END:VEVENT
BEGIN:VEVENT
DTSTART;TZID=America/New_York:20251031T080000
DTEND;TZID=America/New_York:20251031T090000
DTSTAMP:20260425T092839
CREATED:20251001T195938Z
LAST-MODIFIED:20251001T195938Z
UID:10000675-1761897600-1761901200@www.newriverlibrary.org
SUMMARY:JFOL Meeting
DESCRIPTION:UCHS
URL:https://www.newriverlibrary.org/event/jfol-meeting/
LOCATION:Mary C. Brown Public Library\, 250 SE 5th Avenue\, Lake Butler\, FL\, 32054\, United States
CATEGORIES:Mary C. Brown
END:VEVENT
BEGIN:VEVENT
DTSTART;TZID=America/New_York:20251030T180000
DTEND;TZID=America/New_York:20251030T200000
DTSTAMP:20260425T092839
CREATED:20251001T195811Z
LAST-MODIFIED:20251001T195811Z
UID:10000674-1761847200-1761854400@www.newriverlibrary.org
SUMMARY:City of Lake Butler
DESCRIPTION:
URL:https://www.newriverlibrary.org/event/city-of-lake-butler/
LOCATION:Mary C. Brown Public Library\, 250 SE 5th Avenue\, Lake Butler\, FL\, 32054\, United States
CATEGORIES:Mary C. Brown
END:VEVENT
BEGIN:VEVENT
DTSTART;TZID=America/New_York:20251030T103000
DTEND;TZID=America/New_York:20251030T110000
DTSTAMP:20260425T092839
CREATED:20250814T160205Z
LAST-MODIFIED:20250814T160205Z
UID:10000613-1761820200-1761822000@www.newriverlibrary.org
SUMMARY:PreSchool Storytime
DESCRIPTION:Let’s Read \nOct. 2nd – Dog on a Frog \nOct. 9th – Chicka Chicka Boom Boom \nOct. 16th – A Porcupine Named Fluffy \nOct. 23rd – The Doghouse \nOct. 30th – Go Away Big Green Monster
URL:https://www.newriverlibrary.org/event/preschool-storytime-7/2025-10-30/
LOCATION:Mary C. Brown Public Library\, 250 SE 5th Avenue\, Lake Butler\, FL\, 32054\, United States
CATEGORIES:Mary C. Brown
END:VEVENT
BEGIN:VEVENT
DTSTART;TZID=America/New_York:20251029T130000
DTEND;TZID=America/New_York:20251029T133000
DTSTAMP:20260425T092839
CREATED:20250814T160204Z
LAST-MODIFIED:20250814T160204Z
UID:10000624-1761742800-1761744600@www.newriverlibrary.org
SUMMARY:PreSchool Storytime
DESCRIPTION:Oct. 1st – Dog on a Frog \nOct. 8th – Chicka Chicka  Boom Boom \nOct. 15th – A Porcupine Named Fluffy \nOct. 22nd – The Doghouse \nOct. 29th – Go Away Big Green Monster
URL:https://www.newriverlibrary.org/event/preschool-storytime-3/2025-10-29/
LOCATION:Mary C. Brown Public Library\, 250 SE 5th Avenue\, Lake Butler\, FL\, 32054\, United States
CATEGORIES:Mary C. Brown
END:VEVENT
BEGIN:VEVENT
DTSTART;TZID=America/New_York:20251028T100000
DTEND;TZID=America/New_York:20251028T110000
DTSTAMP:20260425T092839
CREATED:20251001T195656Z
LAST-MODIFIED:20251001T195656Z
UID:10000673-1761645600-1761649200@www.newriverlibrary.org
SUMMARY:Senior Social
DESCRIPTION:Pumpkin Party
URL:https://www.newriverlibrary.org/event/senior-social-8/
LOCATION:Mary C. Brown Public Library\, 250 SE 5th Avenue\, Lake Butler\, FL\, 32054\, United States
CATEGORIES:Mary C. Brown
END:VEVENT
BEGIN:VEVENT
DTSTART;TZID=America/New_York:20251025T180000
DTEND;TZID=America/New_York:20251025T200000
DTSTAMP:20260425T092839
CREATED:20251001T195530Z
LAST-MODIFIED:20251001T195530Z
UID:10000672-1761415200-1761422400@www.newriverlibrary.org
SUMMARY:RMG
DESCRIPTION:
URL:https://www.newriverlibrary.org/event/rmg/
LOCATION:Mary C. Brown Public Library\, 250 SE 5th Avenue\, Lake Butler\, FL\, 32054\, United States
CATEGORIES:Mary C. Brown
END:VEVENT
BEGIN:VEVENT
DTSTART;TZID=America/New_York:20251025T080000
DTEND;TZID=America/New_York:20251025T120000
DTSTAMP:20260425T092839
CREATED:20251001T195452Z
LAST-MODIFIED:20251001T195452Z
UID:10000671-1761379200-1761393600@www.newriverlibrary.org
SUMMARY:JFOL Rummage Sale
DESCRIPTION:
URL:https://www.newriverlibrary.org/event/jfol-rummage-sale/
LOCATION:Mary C. Brown Public Library\, 250 SE 5th Avenue\, Lake Butler\, FL\, 32054\, United States
CATEGORIES:Mary C. Brown
END:VEVENT
END:VCALENDAR