BEGIN:VCALENDAR
VERSION:2.0
PRODID:-//New River Public Library Cooperative - ECPv6.15.20//NONSGML v1.0//EN
CALSCALE:GREGORIAN
METHOD:PUBLISH
X-WR-CALNAME:New River Public Library Cooperative
X-ORIGINAL-URL:https://www.newriverlibrary.org
X-WR-CALDESC:Events for New River Public Library Cooperative
REFRESH-INTERVAL;VALUE=DURATION:PT1H
X-Robots-Tag:noindex
X-PUBLISHED-TTL:PT1H
BEGIN:VTIMEZONE
TZID:America/New_York
BEGIN:DAYLIGHT
TZOFFSETFROM:-0500
TZOFFSETTO:-0400
TZNAME:EDT
DTSTART:20250309T070000
END:DAYLIGHT
BEGIN:STANDARD
TZOFFSETFROM:-0400
TZOFFSETTO:-0500
TZNAME:EST
DTSTART:20251102T060000
END:STANDARD
BEGIN:DAYLIGHT
TZOFFSETFROM:-0500
TZOFFSETTO:-0400
TZNAME:EDT
DTSTART:20260308T070000
END:DAYLIGHT
BEGIN:STANDARD
TZOFFSETFROM:-0400
TZOFFSETTO:-0500
TZNAME:EST
DTSTART:20261101T060000
END:STANDARD
BEGIN:DAYLIGHT
TZOFFSETFROM:-0500
TZOFFSETTO:-0400
TZNAME:EDT
DTSTART:20270314T070000
END:DAYLIGHT
BEGIN:STANDARD
TZOFFSETFROM:-0400
TZOFFSETTO:-0500
TZNAME:EST
DTSTART:20271107T060000
END:STANDARD
END:VTIMEZONE
BEGIN:VEVENT
DTSTART;TZID=America/New_York:20260429T153000
DTEND;TZID=America/New_York:20260429T170000
DTSTAMP:20260425T115521
CREATED:20260417T165107Z
LAST-MODIFIED:20260417T165107Z
UID:10000853-1777476600-1777482000@www.newriverlibrary.org
SUMMARY:After-School Program
DESCRIPTION:Join us on Wednesday\, April 29th for Fairy Gardens at the Baker UF Extension office! Drop in between 3:30 PM-5PM. This program is recommended for children 5 and up. Supplies are provided but limited. Hope to see you there!
URL:https://www.newriverlibrary.org/event/after-school-program-2/
LOCATION:Fl
CATEGORIES:Emily Taber
ATTACH;FMTTYPE=image/jpeg:https://www.newriverlibrary.org/wp-content/uploads/2023/05/2.jpg
ORGANIZER;CN="Emily Taber Public Library":MAILTO:etaber@neflin.org
END:VEVENT
END:VCALENDAR