BEGIN:VCALENDAR
VERSION:2.0
PRODID:-//New River Public Library Cooperative - ECPv6.15.20//NONSGML v1.0//EN
CALSCALE:GREGORIAN
METHOD:PUBLISH
X-WR-CALNAME:New River Public Library Cooperative
X-ORIGINAL-URL:https://www.newriverlibrary.org
X-WR-CALDESC:Events for New River Public Library Cooperative
REFRESH-INTERVAL;VALUE=DURATION:PT1H
X-Robots-Tag:noindex
X-PUBLISHED-TTL:PT1H
BEGIN:VTIMEZONE
TZID:America/New_York
BEGIN:DAYLIGHT
TZOFFSETFROM:-0500
TZOFFSETTO:-0400
TZNAME:EDT
DTSTART:20250309T070000
END:DAYLIGHT
BEGIN:STANDARD
TZOFFSETFROM:-0400
TZOFFSETTO:-0500
TZNAME:EST
DTSTART:20251102T060000
END:STANDARD
BEGIN:DAYLIGHT
TZOFFSETFROM:-0500
TZOFFSETTO:-0400
TZNAME:EDT
DTSTART:20260308T070000
END:DAYLIGHT
BEGIN:STANDARD
TZOFFSETFROM:-0400
TZOFFSETTO:-0500
TZNAME:EST
DTSTART:20261101T060000
END:STANDARD
BEGIN:DAYLIGHT
TZOFFSETFROM:-0500
TZOFFSETTO:-0400
TZNAME:EDT
DTSTART:20270314T070000
END:DAYLIGHT
BEGIN:STANDARD
TZOFFSETFROM:-0400
TZOFFSETTO:-0500
TZNAME:EST
DTSTART:20271107T060000
END:STANDARD
END:VTIMEZONE
BEGIN:VEVENT
DTSTART;TZID=America/New_York:20260224T100000
DTEND;TZID=America/New_York:20260224T123000
DTSTAMP:20260423T201405
CREATED:20260202T170651Z
LAST-MODIFIED:20260202T170651Z
UID:10000833-1771927200-1771936200@www.newriverlibrary.org
SUMMARY:Makerspace Family Day
DESCRIPTION:Art supplies\, games\, and building blocks are available to enjoy. \n\n\n\n\nall ages
URL:https://www.newriverlibrary.org/event/makerspace-family-day/
LOCATION:Bradford County\, 456 W Pratt St\, Starke\, FL\, United States
CATEGORIES:Bradford County
END:VEVENT
BEGIN:VEVENT
DTSTART;TZID=America/New_York:20260224T101500
DTEND;TZID=America/New_York:20260224T104500
DTSTAMP:20260423T201405
CREATED:20260202T170524Z
LAST-MODIFIED:20260202T170524Z
UID:10000832-1771928100-1771929900@www.newriverlibrary.org
SUMMARY:Toddler Time
DESCRIPTION:Theme – going to the Circus \nChildren ages 0-2
URL:https://www.newriverlibrary.org/event/toddler-time-6/
LOCATION:Bradford County\, 456 W Pratt St\, Starke\, FL\, United States
CATEGORIES:Bradford County
END:VEVENT
BEGIN:VEVENT
DTSTART;TZID=America/New_York:20260224T143000
DTEND;TZID=America/New_York:20260224T170000
DTSTAMP:20260423T201405
CREATED:20260202T170735Z
LAST-MODIFIED:20260202T170735Z
UID:10000834-1771943400-1771952400@www.newriverlibrary.org
SUMMARY:Makerspace Family Day
DESCRIPTION:Art supplies\, games\, and building blocks are available to enjoy. \nAll ages
URL:https://www.newriverlibrary.org/event/makerspace-family-day-2/
LOCATION:Bradford County\, 456 W Pratt St\, Starke\, FL\, United States
CATEGORIES:Bradford County
END:VEVENT
BEGIN:VEVENT
DTSTART;TZID=America/New_York:20260224T173000
DTEND;TZID=America/New_York:20260224T190000
DTSTAMP:20260423T201405
CREATED:20251204T154716Z
LAST-MODIFIED:20251204T154716Z
UID:10000759-1771954200-1771959600@www.newriverlibrary.org
SUMMARY:Hook & Gather
DESCRIPTION:Crochet meet up for all skill levels
URL:https://www.newriverlibrary.org/event/hook-gather-5/
LOCATION:Bradford County\, 456 W Pratt St\, Starke\, FL\, United States
CATEGORIES:Adults,Bradford County,Teens
END:VEVENT
END:VCALENDAR