BEGIN:VCALENDAR
VERSION:2.0
PRODID:-//New River Public Library Cooperative - ECPv6.15.20//NONSGML v1.0//EN
CALSCALE:GREGORIAN
METHOD:PUBLISH
X-WR-CALNAME:New River Public Library Cooperative
X-ORIGINAL-URL:https://www.newriverlibrary.org
X-WR-CALDESC:Events for New River Public Library Cooperative
REFRESH-INTERVAL;VALUE=DURATION:PT1H
X-Robots-Tag:noindex
X-PUBLISHED-TTL:PT1H
BEGIN:VTIMEZONE
TZID:America/New_York
BEGIN:DAYLIGHT
TZOFFSETFROM:-0500
TZOFFSETTO:-0400
TZNAME:EDT
DTSTART:20250309T070000
END:DAYLIGHT
BEGIN:STANDARD
TZOFFSETFROM:-0400
TZOFFSETTO:-0500
TZNAME:EST
DTSTART:20251102T060000
END:STANDARD
BEGIN:DAYLIGHT
TZOFFSETFROM:-0500
TZOFFSETTO:-0400
TZNAME:EDT
DTSTART:20260308T070000
END:DAYLIGHT
BEGIN:STANDARD
TZOFFSETFROM:-0400
TZOFFSETTO:-0500
TZNAME:EST
DTSTART:20261101T060000
END:STANDARD
BEGIN:DAYLIGHT
TZOFFSETFROM:-0500
TZOFFSETTO:-0400
TZNAME:EDT
DTSTART:20270314T070000
END:DAYLIGHT
BEGIN:STANDARD
TZOFFSETFROM:-0400
TZOFFSETTO:-0500
TZNAME:EST
DTSTART:20271107T060000
END:STANDARD
END:VTIMEZONE
BEGIN:VEVENT
DTSTART;TZID=America/New_York:20260218T100000
DTEND;TZID=America/New_York:20260218T103000
DTSTAMP:20260423T201404
CREATED:20260202T165729Z
LAST-MODIFIED:20260202T165729Z
UID:10000827-1771408800-1771410600@www.newriverlibrary.org
SUMMARY:Storytime
DESCRIPTION:~ Theme: Stop\, Drop\, & Roll \nStarke Fire Dept. Truck is scheduled to be here. \nExplore the truck & run through a fire course. \nAges 0-5
URL:https://www.newriverlibrary.org/event/storytime-6/
LOCATION:Bradford County\, 456 W Pratt St\, Starke\, FL\, United States
CATEGORIES:Bradford County
END:VEVENT
BEGIN:VEVENT
DTSTART;TZID=America/New_York:20260218T160000
DTEND;TZID=America/New_York:20260218T173000
DTSTAMP:20260423T201404
CREATED:20260202T165855Z
LAST-MODIFIED:20260202T165855Z
UID:10000828-1771430400-1771435800@www.newriverlibrary.org
SUMMARY:Group Puzzle Competition
DESCRIPTION:Various sizes are available for different ages. \nLocation: Meeting Room \nAll ages
URL:https://www.newriverlibrary.org/event/group-puzzle-competition-3/
LOCATION:Bradford County\, 456 W Pratt St\, Starke\, FL\, United States
CATEGORIES:Bradford County
END:VEVENT
END:VCALENDAR