BEGIN:VCALENDAR
VERSION:2.0
PRODID:-//New River Public Library Cooperative - ECPv6.15.20//NONSGML v1.0//EN
CALSCALE:GREGORIAN
METHOD:PUBLISH
X-ORIGINAL-URL:https://www.newriverlibrary.org
X-WR-CALDESC:Events for New River Public Library Cooperative
REFRESH-INTERVAL;VALUE=DURATION:PT1H
X-Robots-Tag:noindex
X-PUBLISHED-TTL:PT1H
BEGIN:VTIMEZONE
TZID:America/New_York
BEGIN:DAYLIGHT
TZOFFSETFROM:-0500
TZOFFSETTO:-0400
TZNAME:EDT
DTSTART:20250309T070000
END:DAYLIGHT
BEGIN:STANDARD
TZOFFSETFROM:-0400
TZOFFSETTO:-0500
TZNAME:EST
DTSTART:20251102T060000
END:STANDARD
BEGIN:DAYLIGHT
TZOFFSETFROM:-0500
TZOFFSETTO:-0400
TZNAME:EDT
DTSTART:20260308T070000
END:DAYLIGHT
BEGIN:STANDARD
TZOFFSETFROM:-0400
TZOFFSETTO:-0500
TZNAME:EST
DTSTART:20261101T060000
END:STANDARD
BEGIN:DAYLIGHT
TZOFFSETFROM:-0500
TZOFFSETTO:-0400
TZNAME:EDT
DTSTART:20270314T070000
END:DAYLIGHT
BEGIN:STANDARD
TZOFFSETFROM:-0400
TZOFFSETTO:-0500
TZNAME:EST
DTSTART:20271107T060000
END:STANDARD
END:VTIMEZONE
BEGIN:VEVENT
DTSTART;TZID=America/New_York:20260217T160000
DTEND;TZID=America/New_York:20260217T183000
DTSTAMP:20260423T201741
CREATED:20251231T170509Z
LAST-MODIFIED:20251231T170509Z
UID:10000803-1771344000-1771353000@www.newriverlibrary.org
SUMMARY:Craft Tea Tuesday
DESCRIPTION:Enjoy a cup of flavorful hot tea & a fun craft. \nLocation: Meeting Room
URL:https://www.newriverlibrary.org/event/craft-tea-tuesday-4/
LOCATION:Bradford County\, 456 W Pratt St\, Starke\, FL\, United States
CATEGORIES:Adults,Bradford County
END:VEVENT
END:VCALENDAR