BEGIN:VCALENDAR
VERSION:2.0
PRODID:-//New River Public Library Cooperative - ECPv6.15.20//NONSGML v1.0//EN
CALSCALE:GREGORIAN
METHOD:PUBLISH
X-WR-CALNAME:New River Public Library Cooperative
X-ORIGINAL-URL:https://www.newriverlibrary.org
X-WR-CALDESC:Events for New River Public Library Cooperative
REFRESH-INTERVAL;VALUE=DURATION:PT1H
X-Robots-Tag:noindex
X-PUBLISHED-TTL:PT1H
BEGIN:VTIMEZONE
TZID:America/New_York
BEGIN:DAYLIGHT
TZOFFSETFROM:-0500
TZOFFSETTO:-0400
TZNAME:EDT
DTSTART:20240310T070000
END:DAYLIGHT
BEGIN:STANDARD
TZOFFSETFROM:-0400
TZOFFSETTO:-0500
TZNAME:EST
DTSTART:20241103T060000
END:STANDARD
BEGIN:DAYLIGHT
TZOFFSETFROM:-0500
TZOFFSETTO:-0400
TZNAME:EDT
DTSTART:20250309T070000
END:DAYLIGHT
BEGIN:STANDARD
TZOFFSETFROM:-0400
TZOFFSETTO:-0500
TZNAME:EST
DTSTART:20251102T060000
END:STANDARD
BEGIN:DAYLIGHT
TZOFFSETFROM:-0500
TZOFFSETTO:-0400
TZNAME:EDT
DTSTART:20260308T070000
END:DAYLIGHT
BEGIN:STANDARD
TZOFFSETFROM:-0400
TZOFFSETTO:-0500
TZNAME:EST
DTSTART:20261101T060000
END:STANDARD
END:VTIMEZONE
BEGIN:VEVENT
DTSTART;TZID=America/New_York:20251210T100000
DTEND;TZID=America/New_York:20251210T103000
DTSTAMP:20260423T222901
CREATED:20251204T151032Z
LAST-MODIFIED:20251204T151032Z
UID:10000725-1765360800-1765362600@www.newriverlibrary.org
SUMMARY:Storytime
DESCRIPTION:Tree decor craft \nAges 3-5
URL:https://www.newriverlibrary.org/event/storytime/
LOCATION:Bradford County\, 456 W Pratt St\, Starke\, FL\, United States
CATEGORIES:Bradford County,Kids
END:VEVENT
BEGIN:VEVENT
DTSTART;TZID=America/New_York:20251210T110000
DTEND;TZID=America/New_York:20251210T120000
DTSTAMP:20260423T222901
CREATED:20251031T143830Z
LAST-MODIFIED:20251031T143830Z
UID:10000701-1765364400-1765368000@www.newriverlibrary.org
SUMMARY:Homeschool Program
DESCRIPTION:Snowman program with Kathy & Amy \nAges 4-17
URL:https://www.newriverlibrary.org/event/homeschool-program/
LOCATION:Bradford County\, 456 W Pratt St\, Starke\, FL\, United States
CATEGORIES:Bradford County,Kids,Teens
END:VEVENT
BEGIN:VEVENT
DTSTART;TZID=America/New_York:20251210T110000
DTEND;TZID=America/New_York:20251210T120000
DTSTAMP:20260423T222901
CREATED:20251204T151212Z
LAST-MODIFIED:20251204T151212Z
UID:10000726-1765364400-1765368000@www.newriverlibrary.org
SUMMARY:Homeschool Program - Craft and Hot Cocoa
DESCRIPTION:We’re painting a cute plaster snowman that stands on tabletops\, dressers\, mantels\, and more. Create the perfect cup of cocoa at our hot cocoa bar while your snowman dries. \nChildren and teens ages 3-17.
URL:https://www.newriverlibrary.org/event/homeschool-program-craft-and-hot-cocoa/
LOCATION:Bradford County\, 456 W Pratt St\, Starke\, FL\, United States
CATEGORIES:Bradford County,Kids,Teens
END:VEVENT
END:VCALENDAR