BEGIN:VCALENDAR
VERSION:2.0
PRODID:-//New River Public Library Cooperative - ECPv6.15.20//NONSGML v1.0//EN
CALSCALE:GREGORIAN
METHOD:PUBLISH
X-ORIGINAL-URL:https://www.newriverlibrary.org
X-WR-CALDESC:Events for New River Public Library Cooperative
REFRESH-INTERVAL;VALUE=DURATION:PT1H
X-Robots-Tag:noindex
X-PUBLISHED-TTL:PT1H
BEGIN:VTIMEZONE
TZID:America/New_York
BEGIN:DAYLIGHT
TZOFFSETFROM:-0500
TZOFFSETTO:-0400
TZNAME:EDT
DTSTART:20250309T070000
END:DAYLIGHT
BEGIN:STANDARD
TZOFFSETFROM:-0400
TZOFFSETTO:-0500
TZNAME:EST
DTSTART:20251102T060000
END:STANDARD
BEGIN:DAYLIGHT
TZOFFSETFROM:-0500
TZOFFSETTO:-0400
TZNAME:EDT
DTSTART:20260308T070000
END:DAYLIGHT
BEGIN:STANDARD
TZOFFSETFROM:-0400
TZOFFSETTO:-0500
TZNAME:EST
DTSTART:20261101T060000
END:STANDARD
BEGIN:DAYLIGHT
TZOFFSETFROM:-0500
TZOFFSETTO:-0400
TZNAME:EDT
DTSTART:20270314T070000
END:DAYLIGHT
BEGIN:STANDARD
TZOFFSETFROM:-0400
TZOFFSETTO:-0500
TZNAME:EST
DTSTART:20271107T060000
END:STANDARD
END:VTIMEZONE
BEGIN:VEVENT
DTSTART;VALUE=DATE:20260306
DTEND;VALUE=DATE:20260307
DTSTAMP:20260423T180139
CREATED:20251204T154825Z
LAST-MODIFIED:20251204T154825Z
UID:10000760-1772755200-1772841599@www.newriverlibrary.org
SUMMARY:BMS Outreach Program
DESCRIPTION:BMS students \nOffsite with Kathy and Amy
URL:https://www.newriverlibrary.org/event/bms-outreach-program-4/
LOCATION:Bradford County\, 456 W Pratt St\, Starke\, FL\, United States
CATEGORIES:Bradford County
END:VEVENT
BEGIN:VEVENT
DTSTART;TZID=America/New_York:20260310T173000
DTEND;TZID=America/New_York:20260310T190000
DTSTAMP:20260423T180139
CREATED:20251204T154914Z
LAST-MODIFIED:20251204T154914Z
UID:10000761-1773163800-1773169200@www.newriverlibrary.org
SUMMARY:Hook & Gather
DESCRIPTION:Crochet meetup for all skill levels
URL:https://www.newriverlibrary.org/event/hook-gather-6/
LOCATION:Bradford County\, 456 W Pratt St\, Starke\, FL\, United States
CATEGORIES:Adults,Bradford County,Teens
END:VEVENT
BEGIN:VEVENT
DTSTART;TZID=America/New_York:20260311T110000
DTEND;TZID=America/New_York:20260311T120000
DTSTAMP:20260423T180139
CREATED:20251204T155011Z
LAST-MODIFIED:20251231T170757Z
UID:10000762-1773226800-1773230400@www.newriverlibrary.org
SUMMARY:Homeschool Program
DESCRIPTION:Garden Project with UF//IFAS \nAges 4-17
URL:https://www.newriverlibrary.org/event/homeschool-program-7/
LOCATION:Bradford County\, 456 W Pratt St\, Starke\, FL\, United States
CATEGORIES:Bradford County
END:VEVENT
BEGIN:VEVENT
DTSTART;TZID=America/New_York:20260311T140000
DTEND;TZID=America/New_York:20260311T200000
DTSTAMP:20260423T180139
CREATED:20251231T171302Z
LAST-MODIFIED:20251231T171400Z
UID:10000805-1773237600-1773259200@www.newriverlibrary.org
SUMMARY:Spring Break Art & Garden Kit Pick Up
DESCRIPTION:While supplies last
URL:https://www.newriverlibrary.org/event/spring-break-art-garden-kit-pick-up/2026-03-11/
LOCATION:Bradford County\, 456 W Pratt St\, Starke\, FL\, United States
CATEGORIES:Bradford County
END:VEVENT
BEGIN:VEVENT
DTSTART;TZID=America/New_York:20260312T140000
DTEND;TZID=America/New_York:20260312T200000
DTSTAMP:20260423T180139
CREATED:20251231T171302Z
LAST-MODIFIED:20251231T171400Z
UID:10000806-1773324000-1773345600@www.newriverlibrary.org
SUMMARY:Spring Break Art & Garden Kit Pick Up
DESCRIPTION:While supplies last
URL:https://www.newriverlibrary.org/event/spring-break-art-garden-kit-pick-up/2026-03-12/
LOCATION:Bradford County\, 456 W Pratt St\, Starke\, FL\, United States
CATEGORIES:Bradford County
END:VEVENT
BEGIN:VEVENT
DTSTART;TZID=America/New_York:20260313T140000
DTEND;TZID=America/New_York:20260313T200000
DTSTAMP:20260423T180139
CREATED:20251231T171302Z
LAST-MODIFIED:20251231T171400Z
UID:10000807-1773410400-1773432000@www.newriverlibrary.org
SUMMARY:Spring Break Art & Garden Kit Pick Up
DESCRIPTION:While supplies last
URL:https://www.newriverlibrary.org/event/spring-break-art-garden-kit-pick-up/2026-03-13/
LOCATION:Bradford County\, 456 W Pratt St\, Starke\, FL\, United States
CATEGORIES:Bradford County
END:VEVENT
BEGIN:VEVENT
DTSTART;TZID=America/New_York:20260324T173000
DTEND;TZID=America/New_York:20260324T190000
DTSTAMP:20260423T180139
CREATED:20251204T155055Z
LAST-MODIFIED:20251204T155055Z
UID:10000763-1774373400-1774378800@www.newriverlibrary.org
SUMMARY:Hook & Gather
DESCRIPTION:Crochet meetup for all skill levels
URL:https://www.newriverlibrary.org/event/hook-gather-7/
LOCATION:Bradford County\, 456 W Pratt St\, Starke\, FL\, United States
CATEGORIES:Adults,Bradford County,Teens
END:VEVENT
BEGIN:VEVENT
DTSTART;TZID=America/New_York:20260326T113000
DTEND;TZID=America/New_York:20260326T133000
DTSTAMP:20260423T180139
CREATED:20251204T155157Z
LAST-MODIFIED:20251204T155157Z
UID:10000764-1774524600-1774531800@www.newriverlibrary.org
SUMMARY:Books and Brunch
DESCRIPTION:Read James Percival Everett and meet at Call Street Café to discuss. \nBring $ to order from the menu
URL:https://www.newriverlibrary.org/event/books-and-brunch/
LOCATION:Bradford County\, 456 W Pratt St\, Starke\, FL\, United States
CATEGORIES:Adults,Bradford County
END:VEVENT
END:VCALENDAR