BEGIN:VCALENDAR
VERSION:2.0
PRODID:-//New River Public Library Cooperative - ECPv6.15.20//NONSGML v1.0//EN
CALSCALE:GREGORIAN
METHOD:PUBLISH
X-ORIGINAL-URL:https://www.newriverlibrary.org
X-WR-CALDESC:Events for New River Public Library Cooperative
REFRESH-INTERVAL;VALUE=DURATION:PT1H
X-Robots-Tag:noindex
X-PUBLISHED-TTL:PT1H
BEGIN:VTIMEZONE
TZID:America/New_York
BEGIN:DAYLIGHT
TZOFFSETFROM:-0500
TZOFFSETTO:-0400
TZNAME:EDT
DTSTART:20250309T070000
END:DAYLIGHT
BEGIN:STANDARD
TZOFFSETFROM:-0400
TZOFFSETTO:-0500
TZNAME:EST
DTSTART:20251102T060000
END:STANDARD
BEGIN:DAYLIGHT
TZOFFSETFROM:-0500
TZOFFSETTO:-0400
TZNAME:EDT
DTSTART:20260308T070000
END:DAYLIGHT
BEGIN:STANDARD
TZOFFSETFROM:-0400
TZOFFSETTO:-0500
TZNAME:EST
DTSTART:20261101T060000
END:STANDARD
BEGIN:DAYLIGHT
TZOFFSETFROM:-0500
TZOFFSETTO:-0400
TZNAME:EDT
DTSTART:20270314T070000
END:DAYLIGHT
BEGIN:STANDARD
TZOFFSETFROM:-0400
TZOFFSETTO:-0500
TZNAME:EST
DTSTART:20271107T060000
END:STANDARD
END:VTIMEZONE
BEGIN:VEVENT
DTSTART;TZID=America/New_York:20260106T160000
DTEND;TZID=America/New_York:20260106T183000
DTSTAMP:20260423T201406
CREATED:20251231T163652Z
LAST-MODIFIED:20251231T163652Z
UID:10000788-1767715200-1767724200@www.newriverlibrary.org
SUMMARY:Craft Tea Tuesday
DESCRIPTION:Adults \nWe’re going to get creative with recycled wine bottles.\nPaint\, twine\, bottle cutter\, flowers\, napkins\, mod podge\, and clear &\ncolored bottles are supplied. You’re welcome to BYOB.
URL:https://www.newriverlibrary.org/event/craft-tea-tuesday/
LOCATION:Bradford County\, 456 W Pratt St\, Starke\, FL\, United States
CATEGORIES:Bradford County
END:VEVENT
BEGIN:VEVENT
DTSTART;TZID=America/New_York:20260107T153000
DTEND;TZID=America/New_York:20260107T170000
DTSTAMP:20260423T201406
CREATED:20251204T152546Z
LAST-MODIFIED:20251204T152546Z
UID:10000739-1767799800-1767805200@www.newriverlibrary.org
SUMMARY:Book Builders ~ A club for creative kids
DESCRIPTION:Young storytellers are invited to spend an hour developing their stories\, illustrating\, and collaborating with their peers. \nAges 7-12
URL:https://www.newriverlibrary.org/event/book-builders-a-club-for-creative-kids-2/
LOCATION:Bradford County\, 456 W Pratt St\, Starke\, FL\, United States
CATEGORIES:Bradford County,Kids
END:VEVENT
BEGIN:VEVENT
DTSTART;TZID=America/New_York:20260108T160000
DTEND;TZID=America/New_York:20260108T173000
DTSTAMP:20260423T201406
CREATED:20251204T152856Z
LAST-MODIFIED:20251204T152856Z
UID:10000740-1767888000-1767893400@www.newriverlibrary.org
SUMMARY:Dungeons & Dragons Meetup
DESCRIPTION:
URL:https://www.newriverlibrary.org/event/dungeons-dragons-meetup-4/
LOCATION:Bradford County\, 456 W Pratt St\, Starke\, FL\, United States
CATEGORIES:Adults,Bradford County,Teens
END:VEVENT
BEGIN:VEVENT
DTSTART;TZID=America/New_York:20260109T100000
DTEND;TZID=America/New_York:20260109T120000
DTSTAMP:20260423T201406
CREATED:20251204T152952Z
LAST-MODIFIED:20251231T163906Z
UID:10000741-1767952800-1767960000@www.newriverlibrary.org
SUMMARY:Painting Meetup
DESCRIPTION:~ Listen to music & paint with acrylics or watercolors \nAll supplies provided.\nLocation: Makerspace Room
URL:https://www.newriverlibrary.org/event/painting-meetup/
LOCATION:Bradford County\, 456 W Pratt St\, Starke\, FL\, United States
CATEGORIES:Adults,Bradford County
END:VEVENT
BEGIN:VEVENT
DTSTART;TZID=America/New_York:20260109T150000
DTEND;TZID=America/New_York:20260109T163000
DTSTAMP:20260423T201406
CREATED:20251204T153049Z
LAST-MODIFIED:20251231T164042Z
UID:10000742-1767970800-1767976200@www.newriverlibrary.org
SUMMARY:Paint a Cute Winter Penguin or Snowman
DESCRIPTION:Pick a predrawn design & paint with tempera or acrylic paint. \nLocation: Makerspace Room
URL:https://www.newriverlibrary.org/event/pre-drawn-painting/
LOCATION:Bradford County\, 456 W Pratt St\, Starke\, FL\, United States
CATEGORIES:All Ages,Bradford County
END:VEVENT
BEGIN:VEVENT
DTSTART;TZID=America/New_York:20260113T101500
DTEND;TZID=America/New_York:20260113T104500
DTSTAMP:20260423T201406
CREATED:20251231T164235Z
LAST-MODIFIED:20251231T164235Z
UID:10000789-1768299300-1768301100@www.newriverlibrary.org
SUMMARY:Toddler Time
DESCRIPTION:Theme. ~ Arctic animal cruise \nChildren ages 0-2
URL:https://www.newriverlibrary.org/event/toddler-time-2/
CATEGORIES:Bradford County
END:VEVENT
BEGIN:VEVENT
DTSTART;TZID=America/New_York:20260113T110000
DTEND;TZID=America/New_York:20260113T130000
DTSTAMP:20260423T201406
CREATED:20251231T164333Z
LAST-MODIFIED:20251231T164333Z
UID:10000790-1768302000-1768309200@www.newriverlibrary.org
SUMMARY:Craft Tea Tuesday
DESCRIPTION:Enjoy a cup of flavorful hot tea & a fun craft. \nLocation: Meeting Room
URL:https://www.newriverlibrary.org/event/craft-tea-tuesday-2/
LOCATION:Bradford County\, 456 W Pratt St\, Starke\, FL\, United States
CATEGORIES:Adults,Bradford County
END:VEVENT
BEGIN:VEVENT
DTSTART;TZID=America/New_York:20260113T173000
DTEND;TZID=America/New_York:20260113T190000
DTSTAMP:20260423T201406
CREATED:20251204T153140Z
LAST-MODIFIED:20251204T153140Z
UID:10000743-1768325400-1768330800@www.newriverlibrary.org
SUMMARY:Hook & Gather
DESCRIPTION:Crochet Meetup for all skill levels
URL:https://www.newriverlibrary.org/event/hook-gather-2/
LOCATION:Bradford County\, 456 W Pratt St\, Starke\, FL\, United States
CATEGORIES:Adults,Bradford County,Teens
END:VEVENT
BEGIN:VEVENT
DTSTART;TZID=America/New_York:20260114T100000
DTEND;TZID=America/New_York:20260114T103000
DTSTAMP:20260423T201406
CREATED:20251231T164458Z
LAST-MODIFIED:20251231T164458Z
UID:10000791-1768384800-1768386600@www.newriverlibrary.org
SUMMARY:Story Time
DESCRIPTION:Theme ~ Arctic Animal Cruise \nAges 3-5
URL:https://www.newriverlibrary.org/event/story-time-7/
LOCATION:Bradford County\, 456 W Pratt St\, Starke\, FL\, United States
CATEGORIES:Bradford County,Kids
END:VEVENT
BEGIN:VEVENT
DTSTART;TZID=America/New_York:20260114T110000
DTEND;TZID=America/New_York:20260114T130000
DTSTAMP:20260423T201406
CREATED:20251204T153305Z
LAST-MODIFIED:20251231T164549Z
UID:10000744-1768388400-1768395600@www.newriverlibrary.org
SUMMARY:Homeschool Program
DESCRIPTION:Children & Teens ages 4-17 \nDinosaurs\, Dragons\, Unicorns\, & Rainbows \nWear play clothes.\nLocation: Meeting Room
URL:https://www.newriverlibrary.org/event/homeschool-program-5/
LOCATION:Bradford County\, 456 W Pratt St\, Starke\, FL\, United States
CATEGORIES:Bradford County,Kids,Teens
END:VEVENT
BEGIN:VEVENT
DTSTART;TZID=America/New_York:20260115T090000
DTEND;TZID=America/New_York:20260115T100000
DTSTAMP:20260423T201406
CREATED:20251231T164718Z
LAST-MODIFIED:20251231T170148Z
UID:10000792-1768467600-1768471200@www.newriverlibrary.org
SUMMARY:ESE
DESCRIPTION:Snowflake Craft
URL:https://www.newriverlibrary.org/event/ese/
LOCATION:Bradford County\, 456 W Pratt St\, Starke\, FL\, United States
CATEGORIES:Bradford County
END:VEVENT
BEGIN:VEVENT
DTSTART;TZID=America/New_York:20260115T113000
DTEND;TZID=America/New_York:20260115T133000
DTSTAMP:20260423T201406
CREATED:20251204T153443Z
LAST-MODIFIED:20251204T153443Z
UID:10000745-1768476600-1768483800@www.newriverlibrary.org
SUMMARY:Books & Brunch
DESCRIPTION:The Stolen Live of Colette Marceau \nmeet at Tony’s Restaurant.\nBring $ to order from the menu
URL:https://www.newriverlibrary.org/event/books-brunch-6/
LOCATION:Bradford County\, 456 W Pratt St\, Starke\, FL\, United States
CATEGORIES:Adults,Bradford County
END:VEVENT
BEGIN:VEVENT
DTSTART;TZID=America/New_York:20260115T160000
DTEND;TZID=America/New_York:20260115T171500
DTSTAMP:20260423T201406
CREATED:20251204T153529Z
LAST-MODIFIED:20251204T153529Z
UID:10000746-1768492800-1768497300@www.newriverlibrary.org
SUMMARY:VOLT
DESCRIPTION:Voices of Library Teens Meetup
URL:https://www.newriverlibrary.org/event/volt-2/
LOCATION:Bradford County\, 456 W Pratt St\, Starke\, FL\, United States
CATEGORIES:Bradford County,Teens
END:VEVENT
BEGIN:VEVENT
DTSTART;TZID=America/New_York:20260116T150000
DTEND;TZID=America/New_York:20260116T180000
DTSTAMP:20260423T201406
CREATED:20251231T164906Z
LAST-MODIFIED:20251231T164906Z
UID:10000793-1768575600-1768586400@www.newriverlibrary.org
SUMMARY:2026 Arbor Day Tree Giveaway
DESCRIPTION:Tree Planting & Care Information\nFamily Fun Activities \nTree Varieties: Red Maple\, Live Oak\, Long Leaf Pine (1 tree per person or 3 per household. Supply is limited. First come\, first serve. )
URL:https://www.newriverlibrary.org/event/2026-arbor-day-tree-giveaway/
LOCATION:Bradford County\, 456 W Pratt St\, Starke\, FL\, United States
CATEGORIES:Bradford County
END:VEVENT
BEGIN:VEVENT
DTSTART;VALUE=DATE:20260117
DTEND;VALUE=DATE:20260118
DTSTAMP:20260423T201406
CREATED:20251231T164945Z
LAST-MODIFIED:20251231T164945Z
UID:10000794-1768608000-1768694399@www.newriverlibrary.org
SUMMARY:Library Closed
DESCRIPTION:
URL:https://www.newriverlibrary.org/event/library-closed-8/
LOCATION:Bradford County\, 456 W Pratt St\, Starke\, FL\, United States
CATEGORIES:Bradford County
END:VEVENT
BEGIN:VEVENT
DTSTART;VALUE=DATE:20260119
DTEND;VALUE=DATE:20260120
DTSTAMP:20260423T201406
CREATED:20251204T153611Z
LAST-MODIFIED:20251204T153611Z
UID:10000747-1768780800-1768867199@www.newriverlibrary.org
SUMMARY:Library Closed
DESCRIPTION:Martin Luther King Day
URL:https://www.newriverlibrary.org/event/library-closed-4/
LOCATION:Bradford County\, 456 W Pratt St\, Starke\, FL\, United States
CATEGORIES:Bradford County
END:VEVENT
BEGIN:VEVENT
DTSTART;TZID=America/New_York:20260120T101500
DTEND;TZID=America/New_York:20260120T104500
DTSTAMP:20260423T201406
CREATED:20251231T165109Z
LAST-MODIFIED:20251231T165109Z
UID:10000795-1768904100-1768905900@www.newriverlibrary.org
SUMMARY:Toddler Time
DESCRIPTION:Activity: Playing in a snow globe \nAges 0-2
URL:https://www.newriverlibrary.org/event/toddler-time-3/
LOCATION:Bradford County\, 456 W Pratt St\, Starke\, FL\, United States
CATEGORIES:Bradford County,Kids
END:VEVENT
BEGIN:VEVENT
DTSTART;TZID=America/New_York:20260121T100000
DTEND;TZID=America/New_York:20260121T103000
DTSTAMP:20260423T201406
CREATED:20251231T165220Z
LAST-MODIFIED:20251231T165220Z
UID:10000796-1768989600-1768991400@www.newriverlibrary.org
SUMMARY:Story Time
DESCRIPTION:Activity: Playing in a snow globe \nAges 3-5
URL:https://www.newriverlibrary.org/event/story-time-8/
LOCATION:Bradford County\, 456 W Pratt St\, Starke\, FL\, United States
CATEGORIES:Bradford County,Kids
END:VEVENT
BEGIN:VEVENT
DTSTART;TZID=America/New_York:20260121T150000
DTEND;TZID=America/New_York:20260121T173000
DTSTAMP:20260423T201406
CREATED:20251231T165339Z
LAST-MODIFIED:20251231T165339Z
UID:10000797-1769007600-1769016600@www.newriverlibrary.org
SUMMARY:Makerspace Hobby Intro: Crafting with Shrinky Dinks
DESCRIPTION:Before Valentine’s Day is the perfect time to create some cute things to give as a gift or keep for yourself.\nLocation: Makerspace Room
URL:https://www.newriverlibrary.org/event/makerspace-hobby-intro-crafting-with-shrinky-dinks/
LOCATION:Bradford County\, 456 W Pratt St\, Starke\, FL\, United States
CATEGORIES:Bradford County
END:VEVENT
BEGIN:VEVENT
DTSTART;TZID=America/New_York:20260122T160000
DTEND;TZID=America/New_York:20260122T171500
DTSTAMP:20260423T201406
CREATED:20251204T153652Z
LAST-MODIFIED:20251231T165423Z
UID:10000748-1769097600-1769102100@www.newriverlibrary.org
SUMMARY:Afterschool Craft
DESCRIPTION:Teens
URL:https://www.newriverlibrary.org/event/afterschool-craft-2/
LOCATION:Bradford County\, 456 W Pratt St\, Starke\, FL\, United States
CATEGORIES:Bradford County,Teens
END:VEVENT
BEGIN:VEVENT
DTSTART;TZID=America/New_York:20260123T110000
DTEND;TZID=America/New_York:20260123T120000
DTSTAMP:20260423T201406
CREATED:20251204T153753Z
LAST-MODIFIED:20251204T153753Z
UID:10000749-1769166000-1769169600@www.newriverlibrary.org
SUMMARY:Group Puzzle Competition
DESCRIPTION:Be the first group to put your puzzle together to win the prize package.
URL:https://www.newriverlibrary.org/event/group-puzzle-competition/
LOCATION:Bradford County\, 456 W Pratt St\, Starke\, FL\, United States
CATEGORIES:Adults,Bradford County
END:VEVENT
BEGIN:VEVENT
DTSTART;TZID=America/New_York:20260127T101500
DTEND;TZID=America/New_York:20260127T104500
DTSTAMP:20260423T201406
CREATED:20251231T165551Z
LAST-MODIFIED:20251231T165551Z
UID:10000798-1769508900-1769510700@www.newriverlibrary.org
SUMMARY:Toddler Time
DESCRIPTION:Building a snowman out of faux snow \nAges 0-2
URL:https://www.newriverlibrary.org/event/toddler-time-4/
LOCATION:Bradford County\, 456 W Pratt St\, Starke\, FL\, United States
CATEGORIES:Bradford County,Kids
END:VEVENT
BEGIN:VEVENT
DTSTART;TZID=America/New_York:20260127T113000
DTEND;TZID=America/New_York:20260127T130000
DTSTAMP:20260423T201406
CREATED:20251231T165734Z
LAST-MODIFIED:20251231T165734Z
UID:10000799-1769513400-1769518800@www.newriverlibrary.org
SUMMARY:Craft Tea Tuesday
DESCRIPTION:Enjoy a cup of flavorful hot tea & a fun craft. \nLocation: Meeting Room
URL:https://www.newriverlibrary.org/event/craft-tea-tuesday-3/
LOCATION:Bradford County\, 456 W Pratt St\, Starke\, FL\, United States
CATEGORIES:Adults,Bradford County
END:VEVENT
BEGIN:VEVENT
DTSTART;TZID=America/New_York:20260127T173000
DTEND;TZID=America/New_York:20260127T190000
DTSTAMP:20260423T201406
CREATED:20251204T153849Z
LAST-MODIFIED:20251204T153849Z
UID:10000750-1769535000-1769540400@www.newriverlibrary.org
SUMMARY:Hook & Gather
DESCRIPTION:Crochet meetup for all skill levels
URL:https://www.newriverlibrary.org/event/hook-gather-3/
LOCATION:Bradford County\, 456 W Pratt St\, Starke\, FL\, United States
CATEGORIES:Adults,Bradford County,Teens
END:VEVENT
BEGIN:VEVENT
DTSTART;TZID=America/New_York:20260128T100000
DTEND;TZID=America/New_York:20260128T103000
DTSTAMP:20260423T201406
CREATED:20251231T165843Z
LAST-MODIFIED:20251231T165843Z
UID:10000800-1769594400-1769596200@www.newriverlibrary.org
SUMMARY:Story Time
DESCRIPTION:~ Theme: Snow Activity: Building a snowman out of  faux snow \nAges 3-5
URL:https://www.newriverlibrary.org/event/story-time-9/
LOCATION:Bradford County\, 456 W Pratt St\, Starke\, FL\, United States
CATEGORIES:Bradford County,Kids
END:VEVENT
BEGIN:VEVENT
DTSTART;TZID=America/New_York:20260128T100000
DTEND;TZID=America/New_York:20260128T120000
DTSTAMP:20260423T201406
CREATED:20251204T153953Z
LAST-MODIFIED:20251204T153953Z
UID:10000751-1769594400-1769601600@www.newriverlibrary.org
SUMMARY:Craft: Valentine's Day Themed Earrings
DESCRIPTION:Make cute holiday themed earrings.
URL:https://www.newriverlibrary.org/event/craft-valentines-day-themed-earrings/
LOCATION:Bradford County\, 456 W Pratt St\, Starke\, FL\, United States
CATEGORIES:Adults,Bradford County,Teens
END:VEVENT
BEGIN:VEVENT
DTSTART;TZID=America/New_York:20260128T153000
DTEND;TZID=America/New_York:20260128T173000
DTSTAMP:20260423T201406
CREATED:20251204T154030Z
LAST-MODIFIED:20251204T154030Z
UID:10000752-1769614200-1769621400@www.newriverlibrary.org
SUMMARY:Craft: Valentine's Day Themed Earrings
DESCRIPTION:Make cute holiday themed earrings.
URL:https://www.newriverlibrary.org/event/craft-valentines-day-themed-earrings-2/
LOCATION:Bradford County\, 456 W Pratt St\, Starke\, FL\, United States
CATEGORIES:Adults,Bradford County,Teens
END:VEVENT
BEGIN:VEVENT
DTSTART;TZID=America/New_York:20260129T100000
DTEND;TZID=America/New_York:20260129T120000
DTSTAMP:20260423T201406
CREATED:20251231T170011Z
LAST-MODIFIED:20251231T170011Z
UID:10000801-1769680800-1769688000@www.newriverlibrary.org
SUMMARY:Craft: Candle Making
DESCRIPTION:Choose your colors\, scents\, and containers. \nLocation: Meeting Room
URL:https://www.newriverlibrary.org/event/craft-candle-making/
LOCATION:Bradford County\, 456 W Pratt St\, Starke\, FL\, United States
CATEGORIES:Adults,Bradford County
END:VEVENT
BEGIN:VEVENT
DTSTART;TZID=America/New_York:20260129T150000
DTEND;TZID=America/New_York:20260129T173000
DTSTAMP:20260423T201406
CREATED:20251231T170049Z
LAST-MODIFIED:20251231T170049Z
UID:10000802-1769698800-1769707800@www.newriverlibrary.org
SUMMARY:Craft: Candle Making
DESCRIPTION:Choose your colors\, scents\, and containers. \nLocation: Meeting Room
URL:https://www.newriverlibrary.org/event/craft-candle-making-2/
LOCATION:Bradford County\, 456 W Pratt St\, Starke\, FL\, United States
CATEGORIES:Adults,Bradford County
END:VEVENT
BEGIN:VEVENT
DTSTART;VALUE=DATE:20260130
DTEND;VALUE=DATE:20260131
DTSTAMP:20260423T201406
CREATED:20251204T154119Z
LAST-MODIFIED:20251204T154119Z
UID:10000753-1769731200-1769817599@www.newriverlibrary.org
SUMMARY:BMS Outreach Program
DESCRIPTION:BMS Students \nOffsite with Kathy & Amy
URL:https://www.newriverlibrary.org/event/bms-outreach-program-3/
LOCATION:Bradford County\, 456 W Pratt St\, Starke\, FL\, United States
CATEGORIES:Bradford County
END:VEVENT
END:VCALENDAR