BEGIN:VCALENDAR
VERSION:2.0
PRODID:-//New River Public Library Cooperative - ECPv6.15.20//NONSGML v1.0//EN
CALSCALE:GREGORIAN
METHOD:PUBLISH
X-WR-CALNAME:New River Public Library Cooperative
X-ORIGINAL-URL:https://www.newriverlibrary.org
X-WR-CALDESC:Events for New River Public Library Cooperative
REFRESH-INTERVAL;VALUE=DURATION:PT1H
X-Robots-Tag:noindex
X-PUBLISHED-TTL:PT1H
BEGIN:VTIMEZONE
TZID:America/New_York
BEGIN:DAYLIGHT
TZOFFSETFROM:-0500
TZOFFSETTO:-0400
TZNAME:EDT
DTSTART:20250309T070000
END:DAYLIGHT
BEGIN:STANDARD
TZOFFSETFROM:-0400
TZOFFSETTO:-0500
TZNAME:EST
DTSTART:20251102T060000
END:STANDARD
BEGIN:DAYLIGHT
TZOFFSETFROM:-0500
TZOFFSETTO:-0400
TZNAME:EDT
DTSTART:20260308T070000
END:DAYLIGHT
BEGIN:STANDARD
TZOFFSETFROM:-0400
TZOFFSETTO:-0500
TZNAME:EST
DTSTART:20261101T060000
END:STANDARD
BEGIN:DAYLIGHT
TZOFFSETFROM:-0500
TZOFFSETTO:-0400
TZNAME:EDT
DTSTART:20270314T070000
END:DAYLIGHT
BEGIN:STANDARD
TZOFFSETFROM:-0400
TZOFFSETTO:-0500
TZNAME:EST
DTSTART:20271107T060000
END:STANDARD
END:VTIMEZONE
BEGIN:VEVENT
DTSTART;TZID=America/New_York:20260114T100000
DTEND;TZID=America/New_York:20260114T103000
DTSTAMP:20260425T090601
CREATED:20251231T164458Z
LAST-MODIFIED:20251231T164458Z
UID:10000791-1768384800-1768386600@www.newriverlibrary.org
SUMMARY:Story Time
DESCRIPTION:Theme ~ Arctic Animal Cruise \nAges 3-5
URL:https://www.newriverlibrary.org/event/story-time-7/
LOCATION:Bradford County\, 456 W Pratt St\, Starke\, FL\, United States
CATEGORIES:Bradford County,Kids
END:VEVENT
BEGIN:VEVENT
DTSTART;TZID=America/New_York:20260114T110000
DTEND;TZID=America/New_York:20260114T130000
DTSTAMP:20260425T090601
CREATED:20251204T153305Z
LAST-MODIFIED:20251231T164549Z
UID:10000744-1768388400-1768395600@www.newriverlibrary.org
SUMMARY:Homeschool Program
DESCRIPTION:Children & Teens ages 4-17 \nDinosaurs\, Dragons\, Unicorns\, & Rainbows \nWear play clothes.\nLocation: Meeting Room
URL:https://www.newriverlibrary.org/event/homeschool-program-5/
LOCATION:Bradford County\, 456 W Pratt St\, Starke\, FL\, United States
CATEGORIES:Bradford County,Kids,Teens
END:VEVENT
END:VCALENDAR