BEGIN:VCALENDAR
VERSION:2.0
PRODID:-//New River Public Library Cooperative - ECPv6.15.20//NONSGML v1.0//EN
CALSCALE:GREGORIAN
METHOD:PUBLISH
X-WR-CALNAME:New River Public Library Cooperative
X-ORIGINAL-URL:https://www.newriverlibrary.org
X-WR-CALDESC:Events for New River Public Library Cooperative
REFRESH-INTERVAL;VALUE=DURATION:PT1H
X-Robots-Tag:noindex
X-PUBLISHED-TTL:PT1H
BEGIN:VTIMEZONE
TZID:America/New_York
BEGIN:DAYLIGHT
TZOFFSETFROM:-0500
TZOFFSETTO:-0400
TZNAME:EDT
DTSTART:20240310T070000
END:DAYLIGHT
BEGIN:STANDARD
TZOFFSETFROM:-0400
TZOFFSETTO:-0500
TZNAME:EST
DTSTART:20241103T060000
END:STANDARD
BEGIN:DAYLIGHT
TZOFFSETFROM:-0500
TZOFFSETTO:-0400
TZNAME:EDT
DTSTART:20250309T070000
END:DAYLIGHT
BEGIN:STANDARD
TZOFFSETFROM:-0400
TZOFFSETTO:-0500
TZNAME:EST
DTSTART:20251102T060000
END:STANDARD
BEGIN:DAYLIGHT
TZOFFSETFROM:-0500
TZOFFSETTO:-0400
TZNAME:EDT
DTSTART:20260308T070000
END:DAYLIGHT
BEGIN:STANDARD
TZOFFSETFROM:-0400
TZOFFSETTO:-0500
TZNAME:EST
DTSTART:20261101T060000
END:STANDARD
END:VTIMEZONE
BEGIN:VEVENT
DTSTART;TZID=America/New_York:20251217T080000
DTEND;TZID=America/New_York:20251217T090000
DTSTAMP:20260425T101748
CREATED:20251204T145952Z
LAST-MODIFIED:20251204T145952Z
UID:10000716-1765958400-1765962000@www.newriverlibrary.org
SUMMARY:JFOL Meeting
DESCRIPTION:UCHS
URL:https://www.newriverlibrary.org/event/jfol-meeting-2/
LOCATION:Mary C. Brown Public Library\, 250 SE 5th Avenue\, Lake Butler\, FL\, 32054\, United States
CATEGORIES:Mary C. Brown
END:VEVENT
BEGIN:VEVENT
DTSTART;TZID=America/New_York:20251217T080000
DTEND;TZID=America/New_York:20251217T090000
DTSTAMP:20260425T101748
CREATED:20251215T144704Z
LAST-MODIFIED:20251215T144704Z
UID:10000776-1765958400-1765962000@www.newriverlibrary.org
SUMMARY:JFOL Meeting
DESCRIPTION:UCHS
URL:https://www.newriverlibrary.org/event/jfol-meeting-3/
LOCATION:Mary C. Brown Public Library\, 250 SE 5th Avenue\, Lake Butler\, FL\, 32054\, United States
CATEGORIES:Mary C. Brown
END:VEVENT
BEGIN:VEVENT
DTSTART;TZID=America/New_York:20251217T100000
DTEND;TZID=America/New_York:20251217T103000
DTSTAMP:20260425T101749
CREATED:20251204T151757Z
LAST-MODIFIED:20251204T151757Z
UID:10000732-1765965600-1765967400@www.newriverlibrary.org
SUMMARY:Storytime
DESCRIPTION:With Melanie. \nWear your Christmas PJs! Night Before Christmas & holiday party. \nAges 0-5
URL:https://www.newriverlibrary.org/event/storytime-2/
LOCATION:Bradford County\, 456 W Pratt St\, Starke\, FL\, United States
CATEGORIES:Bradford County,Kids
END:VEVENT
BEGIN:VEVENT
DTSTART;TZID=America/New_York:20251217T110000
DTEND;TZID=America/New_York:20251217T120000
DTSTAMP:20260425T101749
CREATED:20251204T151856Z
LAST-MODIFIED:20251204T151856Z
UID:10000733-1765969200-1765972800@www.newriverlibrary.org
SUMMARY:Hurricane Disaster Recovery
DESCRIPTION:Presented by Meridian \nLearn how you can get help with roof replacements\, tree removal\, and more. Light refreshments provided.
URL:https://www.newriverlibrary.org/event/hurricane-disaster-recovery/
LOCATION:Bradford County\, 456 W Pratt St\, Starke\, FL\, United States
CATEGORIES:Adults,Bradford County
END:VEVENT
END:VCALENDAR