BEGIN:VCALENDAR
VERSION:2.0
PRODID:-//New River Public Library Cooperative - ECPv6.15.20//NONSGML v1.0//EN
CALSCALE:GREGORIAN
METHOD:PUBLISH
X-ORIGINAL-URL:https://www.newriverlibrary.org
X-WR-CALDESC:Events for New River Public Library Cooperative
REFRESH-INTERVAL;VALUE=DURATION:PT1H
X-Robots-Tag:noindex
X-PUBLISHED-TTL:PT1H
BEGIN:VTIMEZONE
TZID:America/New_York
BEGIN:DAYLIGHT
TZOFFSETFROM:-0500
TZOFFSETTO:-0400
TZNAME:EDT
DTSTART:20240310T070000
END:DAYLIGHT
BEGIN:STANDARD
TZOFFSETFROM:-0400
TZOFFSETTO:-0500
TZNAME:EST
DTSTART:20241103T060000
END:STANDARD
BEGIN:DAYLIGHT
TZOFFSETFROM:-0500
TZOFFSETTO:-0400
TZNAME:EDT
DTSTART:20250309T070000
END:DAYLIGHT
BEGIN:STANDARD
TZOFFSETFROM:-0400
TZOFFSETTO:-0500
TZNAME:EST
DTSTART:20251102T060000
END:STANDARD
BEGIN:DAYLIGHT
TZOFFSETFROM:-0500
TZOFFSETTO:-0400
TZNAME:EDT
DTSTART:20260308T070000
END:DAYLIGHT
BEGIN:STANDARD
TZOFFSETFROM:-0400
TZOFFSETTO:-0500
TZNAME:EST
DTSTART:20261101T060000
END:STANDARD
END:VTIMEZONE
BEGIN:VEVENT
DTSTART;TZID=America/New_York:20251212T090000
DTEND;TZID=America/New_York:20251212T100000
DTSTAMP:20260425T101917
CREATED:20251204T151346Z
LAST-MODIFIED:20251204T151346Z
UID:10000728-1765530000-1765533600@www.newriverlibrary.org
SUMMARY:ESE ~ Christmas Craft
DESCRIPTION:
URL:https://www.newriverlibrary.org/event/ese-christmas-craft/
LOCATION:Bradford County\, 456 W Pratt St\, Starke\, FL\, United States
CATEGORIES:Bradford County
END:VEVENT
BEGIN:VEVENT
DTSTART;TZID=America/New_York:20251212T140000
DTEND;TZID=America/New_York:20251212T150000
DTSTAMP:20260425T101917
CREATED:20251031T143830Z
LAST-MODIFIED:20251031T143830Z
UID:10000703-1765548000-1765551600@www.newriverlibrary.org
SUMMARY:Holiday Book Bingo
DESCRIPTION:with Kathy
URL:https://www.newriverlibrary.org/event/holiday-book-bingo/
LOCATION:Bradford County\, 456 W Pratt St\, Starke\, FL\, United States
CATEGORIES:All Ages,Bradford County
END:VEVENT
BEGIN:VEVENT
DTSTART;TZID=America/New_York:20251212T140000
DTEND;TZID=America/New_York:20251212T160000
DTSTAMP:20260425T101917
CREATED:20251204T151445Z
LAST-MODIFIED:20251204T151445Z
UID:10000729-1765548000-1765555200@www.newriverlibrary.org
SUMMARY:Holiday Bingo
DESCRIPTION:Play to win prizes for all ages
URL:https://www.newriverlibrary.org/event/holiday-bingo/
LOCATION:Bradford County\, 456 W Pratt St\, Starke\, FL\, United States
CATEGORIES:All Ages,Bradford County
END:VEVENT
END:VCALENDAR